Workbook
Name DATA8: #REF!

Sheet Total
A2: EMPRESAS PÚBLICAS DE CUNDINAMARCA INVITACION POR LISTA CORTA No. 03-2016
A3: PUNTAJE TOTAL
A5: RAMO | B5: LA PREVISORA S.A. COMPAÑÍA DE SEGUROS | C5: UNIÓN TEMPORAL CHUBB DE COLOMBIA COMPAÑÍA DE SEGUROS S.A. Y ACE SEGUROS S.A.
A6: GRUPO DE PÓLIZAS | B6: Puntos | C6: Puntos
A7: GRUPO 1 (Todo riesgo daño material, Manejo global, Responsabilidad civil extracontractual y Automóviles) | B7: =Ponderación!C13 -> 957 | C7: NO PRESENTÓ OFERTA
A8: GRUPO 2 (Responsabilidad civil servidores públicos) | B8: =Ponderación!C24 -> 718.0057 | C8: =Ponderación!C31 -> 958.01136
A9: GRUPO 3 (Infidelidad y riesgos financieros) | B9: =Ponderación!C41 -> 581.48649 | C9: =Ponderación!C49 -> 528.84211
A13: INFORME DE EVALUACIÓN ELABORADO POR:
A16: NESTOR HERNANDO GUERRA RIVERA
A17: AON RISK SERVICES COLOMBIA S.A.

Sheet Hoja1

Sheet Ponderación
A2: EMPRESAS PÚBLICAS DE CUNDINAMARCA
A3: Consolidado Programa
A5: CONSOLIDADO GRUPO 1
A7: FACTORES | B7: PUNTAJE PARCIAL | C7: PUNTAJE TOTAL | E7: LA PREVISORA S.A. COMPAÑÍA DE SEGUROS
A8: FACTOR ECONOMICO | C8: =+B9+B10 -> 701 | E8: Todo Riesgo Daño Material participacion al 30% | F8: Manejo Global Entidades Públicas participación al 30% | G8: Responsabilidad Civil Extracontractual participación al 10% | H8: Automóviles participación al 20% | I8: Todo riesgo Equipo y Maquinaria participación al 10%
A9: Menor Prima | B9: =E9+F9+G9+H9+I9 -> 540 | E9: =Económico!D9*30% -> 150 | F9: =Económico!D11*30% -> 150 | G9: =Económico!D10*10% -> 50 | H9: =Económico!D12*20% -> 140 | I9: =Económico!D13*10% -> 50
A10: Menores Deducibles | B10: =E10+F10+G10+H10+I10 -> 161 | E10: =Deducibles!F95*30% -> 57 | F10: =Deducibles!F136*30% -> 54 | G10: =Deducibles!F176*10% -> 24 | I10: =Deducibles!F224*10% -> 26
A11: FACTOR DE CALIDAD | C11: =B12 -> 256
A12: Cláusula y/o Condiciones Complementarias Calificables | B12: =E12+F12+G12+H12+I12 -> 256 | E12: =TDRM!F54*30% -> 90 | F12: =MN!E35*30% -> 90 | G12: =RCE!G19*10% -> 18 | H12: =AU!D46*20% -> 42 | I12: =TREYM!D17*10% -> 16
A13: TOTAL | C13: =SUM(C8:C12) -> 957 | E13: =SUM(E8:E12) -> 297 | F13: =SUM(F8:F12) -> 294 | G13: =SUM(G8:G12) -> 92 | H13: =SUM(H8:H12) -> 182 | I13: =SUM(I8:I12) -> 92
A17: CONSOLIDADO GRUPO 2
A19: FACTORES | B19: PUNTAJE PARCIAL | C19: PUNTAJE TOTAL | E19: LA PREVISORA S.A. COMPAÑÍA DE SEGUROS
A20: FACTOR ECONOMICO | C20: =B21 -> 698.0057 | E20: Responsabilidad Civil Servidores Públicos participación al 100%
A21: Menor Prima | B21: =E21 -> 698.0057 | E21: =Económico!D21 -> 698.0057
A22: FACTOR DE CALIDAD | C22: =B23 -> 20
A23: Cláusula y/o Condiciones Complementarias Calificables | B23: =E23 -> 20 | E23: =RCSP!D43 -> 20
A24: TOTAL | C24: =SUM(C20:C23) -> 718.0057 | E24: =SUM(E21:E23) -> 718.0057
A26: FACTORES | B26: PUNTAJE PARCIAL | C26: PUNTAJE TOTAL | E26: UNIÓN TEMPORAL CHUBB DE COLOMBIA COMPAÑÍA DE SEGUROS S.A. Y ACE SEGUROS S.A.
A27: FACTOR ECONOMICO | C27: =B28 -> 698.01136 | E27: Responsabilidad Civil Servidores Públicos participación al 100%
A28: Menor Prima | B28: =E28 -> 698.01136 | E28: =Económico!G21 -> 698.01136
A29: FACTOR DE CALIDAD | C29: =B30 -> 260
A30: Cláusula y/o Condiciones Complementarias Calificables | B30: =E30 -> 260 | E30: =RCSP!F43 -> 260
A31: TOTAL | C31: =SUM(C27:C30) -> 958.01136 | E31: =SUM(E28:E30) -> 958.01136
A33: CONSOLIDADO GRUPO 3
A35: FACTORES | B35: PUNTAJE PARCIAL | C35: PUNTAJE TOTAL | E35: LA PREVISORA S.A. COMPAÑÍA DE SEGUROS
A36: FACTOR ECONOMICO | C36: =+B37+B38 -> 581.48649 | E36: Infidelidad y Riesgos Financieros participación al 100%
A37: Menor Prima | B37: =E37 -> 486.48649 | E37: =Económico!D29 -> 486.48649
A38: Menores Deducibles | B38: =E38 -> 95 | E38: =Deducibles!F259 -> 95
A39: FACTOR DE CALIDAD | C39: =B40 -> 0
A40: Cláusula y/o Condiciones Complementarias Calificables | B40: =E40 -> 0 | E40: =IRF!D13 -> 0
A41: TOTAL | C41: =SUM(C36:C40) -> 581.48649 | E41: =SUM(E37:E40) -> 581.48649
A43: FACTORES | B43: PUNTAJE PARCIAL | C43: PUNTAJE TOTAL | E43: UNIÓN TEMPORAL CHUBB DE COLOMBIA COMPAÑÍA DE SEGUROS S.A. Y ACE SEGUROS S.A.
A44: FACTOR ECONOMICO | C44: =+B45+B46 -> 528.84211 | E44: Infidelidad y Riesgos Financieros participación al 100%
A45: Menor Prima | B45: =E45 -> 486.84211 | E45: =Económico!G29 -> 486.84211
A46: Menores Deducibles | B46: =E46 -> 42 | E46: =Deducibles!H259 -> 42
A47: FACTOR DE CALIDAD | C47: =B48 -> 0
A48: Cláusula y/o Condiciones Complementarias Calificables | B48: =E48 -> 0 | E48: =IRF!F13 -> 0
A49: TOTAL | C49: =SUM(C44:C48) -> 528.84211 | E49: =SUM(E45:E48) -> 528.84211

Sheet Económico
A1: EMPRESAS PÚBLICAS DE CUNDINAMARCA
A3: Evaluación prima 500 y 700 puntos
A5: GRUPO 1
A7: RAMO | B7: LA PREVISORA S.A. COMPAÑÍA DE SEGUROS | H7: MEDIA ARÍTMETICA POR RAMOS OFERTAS GRUPO 1
A8: GRUPO DE PÓLIZAS | B8: Tasa | C8: Prima Total ( incluye IVA ) | D8: Puntos | H8: MEDIA TRDM | I8: 7287587
A9: Todo Riesgo Daño Material | B9: 2.40%o | C9: 7287587 | D9: 500 | H9: MEDIA MANEJO | I9: 16564800
A10: Responsabilidad Civil Extracontractual | B10: 0.0035 | C10: 10556000 | D10: 500 | H10: MEDIA RCE | I10: 10556000
A11: Manejo Global Entidades Estatales | B11: 0.034 | C11: 16564800 | D11: 500 | H11: MEDIA AU | I11: 52454551
A12: Automóviles | B12: 0.028 | C12: 52454551 | D12: 700 | H12: MEDIA TREYM | I12: 4371404
A13: Todo Riesgo Equipo y Maquinaria | B13: 6.00%o | C13: 4371404 | D13: 500 | H13: MEDIA ARÍTMETICA OFERTA GRUPO 2
A14: TOTAL | C14: =SUM(C9:C13) -> 91234342 | H14: MEDIA RC SERVIDORES PÚBLICOS | I14: =(C22+F22)/2 -> 81432000
H15: MEDIA ARÍTMETICA OFERTA GRUPO 3
H16: MEDIA IRF | I16: =(C30+F30)/2 -> 21460000
A17: GRUPO 2
A19: RAMO | B19: LA PREVISORA S.A. COMPAÑÍA DE SEGUROS | E19: UNIÓN TEMPORAL CHUBB DE COLOMBIA COMPAÑÍA DE SEGUROS S.A. Y ACE SEGUROS S.A.
A20: GRUPO DE PÓLIZAS | B20: Tasa | C20: Prima Total ( incluye IVA ) | D20: Puntos | E20: Tasa | F20: Prima Total ( incluye IVA ) | G20: Puntos
A21: Responsabilidad Civil Servidores Públicos | B21: 0.035 | C21: 81200000 | D21: =700*C21/I14 -> 698.0057 | E21: vrs | F21: 81664000 | G21: =700*I14/F22 -> 698.01136
A22: TOTAL | C22: =SUM(C20:C21) -> 81200000 | F22: =SUM(F20:F21) -> 81664000
A25: GRUPO 3
A27: RAMO | B27: LA PREVISORA S.A. COMPAÑÍA DE SEGUROS | E27: UNIÓN TEMPORAL CHUBB DE COLOMBIA COMPAÑÍA DE SEGUROS S.A. Y ACE SEGUROS S.A.
A28: GRUPO DE PÓLIZAS | B28: Tasa | C28: Prima Total ( incluye IVA ) | D28: Puntos | E28: Tasa | F28: Prima Total ( incluye IVA ) | G28: Puntos
A29: Infidelidad y Riesgos Financieros | B29: 0.018 | C29: 20880000 | D29: =500*C29/I16 -> 486.48649 | E29: vrs | F29: 22040000 | G29: =500*I16/F30 -> 486.84211
A30: TOTAL | C30: =SUM(C28:C29) -> 20880000 | F30: =SUM(F28:F29) -> 22040000

Sheet Deducibles
A2: EVALUACIÓN DEDUCIBLES - 300 Y 200 PUNTOS SEGURO DE TODO RIESGO DAÑOS MATERIALES - EMPRESAS PÚBLICAS DE CUNDINAMARCA
A4: NOTA: Se informa que teniendo en cuenta que el factor de deducibles se evalúa de acuerdo con las tablas de deducibles para cada uno de los ramos y que en en el pliego de condiciones se establece una puntuación de 300 puntos para este factor, las EMPRESAS PÚBLICAS DE CUNDINAMARCA, realizará la evaluación conforme a la puntuación de las tablas, exceptuando los ramos de Automóviles y responsabilidad civil servidore públicos, por no contemplar deducibles para estos ramos, razón por la cual la prima se evaluará para estos ramos en 700 puntos.
A5: Deducibles | C5: Puntaje máximo otorgable por cada condición | E5: OFERENTES
A6: Tablas de calificación | E6: LA PREVISORA S.A. COMPAÑÍA DE SEGUROS | F6: Puntaje
A7: a) Terremoto, temblor y/o erupción volcánica, maremoto, tsunami: | C7: 50
A8: b) HMACCOP, AMIT, sabotaje y terrorismo | C8: 30
A9: c) Hurto calificado y hurto simple | C9: 50
A10: d) Equipos móviles y portátiles | C10: 20
A11: e) Demás eventos equipo eléctrico y electrónico | C11: 20
A12: f) Demás eventos | C12: 30
A13: Total puntos: | C13: =SUM(C7:D12) -> 200
A15: a) Terremoto, temblor y/o erupcion volcánica, maremoto, tsunami (sin mínimo)
A16: Evaluación de porcentaje:
A17: RANGO DE DEDUCIBLE | B17: Puntaje sobre el valor de la pérdida indemnizable
A18: Sin deducible | B18: 50
A19: Superior a 0% y hasta 1% | B19: 40 | E19: 1% sobre el valor de la pérdida, sin mínimo | F19: 40
A20: Superior a 1% y hasta 2% | B20: 30
A21: Superior a 2% y hasta 3% | B21: 10
A22: Superior a 3% | B22: Se tendrá en cuenta lo establecido en el factor de deducibles indicado en el pliego de condiciones
A23: RANGO DE DEDUCIBLE | B23: Sobre el valor asegurado o asegurable del bien afectado
A24: Sin deducible | B24: 50
A25: Superior a 0% y hasta 1% | B25: 20
A26: Superior a 1% y hasta 2% | B26: 10
A27: Superior a 2% y hasta 3% | B27: 5
A28: Superior a 3% | B28: Se tendrá en cuenta lo establecido en el factor de deducibles indicado en el pliego de condiciones
A29: b) HAMCCoP, AMIT (incluyendo sabotaje y terrorismo (sin mínimo)
A30: Evaluación de Porcentaje sobre el valor de la pérdida
A31: RANGO DE DEDUCIBLE | B31: Puntaje
A32: Sin deducible | B32: 30 | E32: Sin deducible | F32: 30
A33: Superior a 0% y hasta 1% | B33: 20
A34: Superior a 1% y hasta 2% | B34: 10
A35: Superior a 2% y hasta 3% | B35: 5
A36: Superior a 3% y hasta 4% | B36: 3
A37: Superior a 4% | B37: Se tendrá en cuenta lo establecido en el factor de deducibles indicado en el pliego de condiciones
A38: c) HURTO CALIFICADO Y HURTO SIMPLE
A39: Evaluación de Porcentaje sobre el valor de la pérdida indemnizable
A40: RANGO DE DEDUCIBLE | B40: Puntaje
A41: Sin deducible | B41: 25 | E41: Sin deducible | F41: 25
A42: Superior a 0% y hasta 1% | B42: 15
A43: Superior a 1% y hasta 2% | B43: 5
...

Sheet TDRM
A1: ANEXO No. 2
A2: CONDICIONES TÉCNICAS COMPLEMENTARIAS
A3: EMPRESAS PUBLICAS DE CUNDINAMARCA S.A. ESP
A4: PÓLIZA DE SEGURO DE TODO RIESGO DAÑOS MATERIALES
C5: Puntaje máximo otorgable por cada condición | E5: OFERENTES
A6: Condición | E6: LA PREVISORA S.A. COMPAÑÍA DE SEGUROS | F6: PUNTAJE
A7: Porcentaje adicional para la condición de anticipo de la indemnización | C7: 20 | E7: Se otorga el 75% | F7: 20
A8: Se califica con el máximo puntaje el mayor procentaje establecido en exceso del básico obligatorio, los demás en forma proporcional utilizando una regla de tres
A9: Para tener derecho al puntaje, el límite adicional ofrecido deberá ser como mínimo el 10% del límite de la condición básica.
A10: Límite adicional para la cobertura de hurto calificado para equipos móviles y/o portátiles fuera de los predios del asegurado, incluidos los movilizados al exterior. | C10: 20 | E10: Se otorga 100% del valor asegurado | F10: 20
A11: Se califica con el máximo puntaje el mayor límite establecido en exceso del básico obligatorio para la aplicación de infraseguro, los demás en forma proporcional utilizando una regla de tres
A12: Para tener derecho al puntaje, el límite adicional ofrecido deberá ser como mínimo el 10% del límite de la condición básica. El máximo se limitará al valor asegurado de equipos electrónicos para efectos de la utilización d ela regla de tres simple.
A13: Límite adicional para la cobertura de hurto simple para equipos móviles y/o portátiles fuera de los predios del asegurado incluidos los movilizados al exterior. | C13: 20 | E13: Se otorga 100% del valor asegurado | F13: 20
A14: Se califica con el máximo puntaje el mayor límite establecido en exceso del básico obligatorio para la aplicación de infraseguro, los demás en forma proporcional utilizando una regla de tres
A15: Para tener derecho al puntaje, el límite adicional ofrecido deberá ser como mínimo el 10% del límite de la condición básica. El máximo se limitará al valor asegurado de equipos electrónicos para efectos de la utilización d ela regla de tres simple.
A16: Porcentaje adicional para la condición de no aplicación de infraseguro. Queda entendido, convenido y aceptado que el valor real del interés asegurado es el que se señala en la carátula de la póliza. Por lo tanto, en caso de ocurrir un siniestro amparado bajo la presente póliza, la aseguradora indemnizará la pérdida hasta el monto del valor real de la pérdida, sin hacer aplicación de la regla proporcional por infraseguro, de acuerdo a lo señalado por el artículo 1089 del código de comercio. La regla proporcional se aplicara, siempre y cuando la diferencia entre el valor asegurado y el valor asegurable, sea superior al __%. | C16: 30 | E16: Se otorga el 15% del valor asegurado total | F16: 30
A17: Se califica con el máximo puntaje el mayor porcentaje establecido en exceso del básico obligatorio para la aplicación de infraseguro, los demás en forma proporcional utilizando una regla de tres.
A18: Para tener derecho al puntaje, el límite adicional ofrecido deberá ser como mínimo el 10% del límite de la condición básica
A19: Valores en exceso al básico agregado de perdidas sin aplicación de deducible. Para cualquier daño y/o pérdida derivada de los eventos cubiertos. No aplica para pérdidas por terrorismo y terremoto. | C19: 40 | E19: Se otorga un límite individual de $20.000.000 y acumulado en total $50.000.000 | F19: 40
A20: Se califica con el máximo puntaje el mayor límite ofrecido adicional al básico obligatorio, los demás en forma proporcional, utilizando una regla de tres.
A21: Calificación para el mayor límite individual: 50% de los puntos
A22: Calificación para el acumulado: 50% de los puntos
A23: Para tener derecho al puntaje, el límite adicional ofrecido deberá ser como mínimo el 10% del límite de la condición básica
A24: Suma adicional a la condición de reparaciones sin previa autorización. | C24: 20 | E24: Se otorga sublimite de $50.000.000 | F24: 20
A25: Se califica con el máximo puntaje el mayor límite ofrecido adicional al básico obligatorio, los demás en forma proporcional, utilizando una regla de tres.
A26: Para tener derecho al puntaje, el límite adicional ofrecido deberá ser como mínimo el 10% del límite de la condición básica
A27: Suma adicional a la condición de reparaciones y ajuste de pérdidas en caso de siniestro. Para aquellas pérdidas o daños que no excedan la suma determinada el deducible pactado, la Aseguradora acepta abstenerse de nombrar ajustador y autoriza al asegurado para efectuar las reparaciones necesarias, con el compromiso del asegurado de informar el siniestro a la Asegurador. | C27: 20 | E27: Se otorga sublimite de $15.000.000 | F27: 20
A28: Se califica con el máximo puntaje el mayor límite ofrecido adicional al básico obligatorio, los demás en forma proporcional, utilizando una regla de tres.
A29: Para tener derecho al puntaje, el límite adicional ofrecido deberá ser como mínimo el 10% del límite de la condición básica
A30: Suma adicional a la condición de no tasación o inventarios cuando la pérdida sea inferior al monto determinado. | C30: 20 | E30: No tasación o inventarios cuando la pérdida sea inferior a $30.000.000 | F30: 20
A31: Se califica con el máximo puntaje el mayor límite ofrecido adicional al básico obligatorio, los demás en forma proporcional, utilizando una regla de tres.
A32: Para tener derecho al puntaje, el límite adicional ofrecido deberá ser como mínimo el 10% del límite de la condición básica
A33: Modificación de la Tabla de demérito que opera en caso de pérdidas totales por daño interno en equipos eléctricos y/o electrónicos | C33: 30 | E33: Se otorgan tres (3) años | F33: 30
A34: La tabla de demérito inicia con un porcentaje de cero (0) por ciento anual para equipos con edad hasta de tres (3) años. Se califica con el máximo puntaje la mayor cantidad de años ofrecida, los demás en forma proporcional, utilizando una regla de tres. Si indica un (1) año se entendrá que es adicional al rango de tres (3) años y se interpretará que el primer rango irá hasta cuatro (4) años.
A35: Para tener derecho al puntaje, el límite adicional ofrecido deberá ser como mínimo el 10% del límite de la condición básica
A36: Suma adicional a la condición de bienes bajo cuidado, tenencia y control | C36: 20 | E36: Se otorga en total $500.000.000 | F36: 20
A37: Se califica con el máximo puntaje el mayor límite ofrecido adicional al básico obligatorio, los demás en forma proporcional, utilizando una regla de tres.
A38: Para tener derecho al puntaje, el límite adicional ofrecido deberá ser como mínimo el 10% del límite de la condición básica
A39: Sublímite agregado para gastos adicionales | C39: 20 | E39: Se otorga en total $500.000.000 evento $1.200.000.000 vigencia | F39: 20
A40: El sublímite de la condición básica obligatoria está en $100.000.000. Se califica con el máximo puntaje el mayor límite ofrecido adicional al básico obligatorio, los demás en forma proporcional, utilizando una regla de tres.
...

Sheet MN
A1: ANEXO No. 2
A2: EMPRESAS PUBLICAS DE CUNDINAMARCA S.A. ESP
A3: SEGURO GLOBAL DE MANEJO ENTIDADES ESTATALES
A4: CONDICIONES TÉCNICAS COMPLEMENTARIAS
A5: Condición | C5: Puntaje máximo otorgable por cada condición | D5: OFERENTES
D6: LA PREVISORA S.A. COMPAÑÍA DE SEGUROS | E6: PUNTAJE
A7: Límite asegurado adicional al básico sin cobro de prima adicional. | C7: 50 | D7: Se otorga un sublimite total de $450.000.000 | E7: 50
A8: Para la calificación de esta condición, se asignará el mayor puntaje al proponente que ofrezca, en adición al límite obligatorio, el mayor límite asegurado, sin cobro de prima adicional; los demás en forma inversamente proporcional, utilizando una regla de tres.
A9: Para tener derecho al puntaje, el límite adicional ofrecido deberá ser como mínimo el 10% del límite de la condición básica
A10: Sublímite asegurado adicional para gastos adicionales sin cobro de prima adicional. | C10: 30 | D10: Se otorga un sublimite total de $200.000.000 | E10: 30
A11: Para la calificación de esta condición, se asignará el mayor puntaje al proponente que ofrezca, en adición al límite básico, el mayor sublímite asegurado, sin cobro de prima adicional; los demás en forma inversamente proporcional, utilizando una regla de tres.
A12: Para tener derecho al puntaje, el límite adicional ofrecido deberá ser como mínimo el 10% del límite de la condición básica
A13: Bono de retorno por experiencia siniestral (B). | C13: 20 | D13: Se otorga un factor total de 0.1 B=X(0.8P-S) X=0.1 | E13: 20
A14: La aseguradora reconocerá a la entidad una devolución sobre la prima recaudada del periodo (sin IVA), del valor calculado sobre el valor positivo que resulte de aplicar la siguiente fórmula:
A16: B =X (0.8 P - S)
A17: Donde:
A18: B = Bonificación de retorno por experiencia siniestral.
A19: P = Primas recaudadas del periodo.
A20: S = Siniestros que afecten la póliza del periodo (Valor indemnizado siniestros + Valor a indemnizar siniestros pendientes)
A21: X = Factor calificable
A22: Los siniestros a los que se refiere la fórmula arriba indicada, serán registrados siempre que la fecha de su aviso a la aseguradora corresponda a la vigencia objeto del cálculo.
A23: Se califica con el máximo puntaje el mayor factor ofrecido, (el cual debe encontrarse dentro del rango de los números mayores que 0.1 y hasta 1.0); los demás en forma proporcional.
A24: Faltantes de inventario hasta el __% del límite asegurado. El oferente ofrecerá la cobertura para los faltantes de inventarios atribuibles a funcionarios de la Entidad siempre y cuando tales pérdidas sean consecuencia de delitos amparados en este seguro. | C24: 30 | D24: Se otorga un sublimite de $10.000.000 evento/vigencia | E24: 30
A25: Para la calificación de esta condición, se asignará el mayor puntaje al proponente que ofrezca el mayor límite en porcentaje ofrecido frente al límite asegurado (*1), sin cobro de prima adicional, los demás en forma inversamente proporcional, utilizando una regla de tres.
A26: (*1) Para tener derecho al puntaje, el límite ofrecido deberá ser como mínimo el 10% del límite asegurado.
A27: Restablecimiento automático del límite asegurado por pago de siniestro hasta una vez con cobro de prima adicional a prorrata. La aceptación de esta condición otorgará el puntaje ofrecido, la negación para aceptar esta condición no concederá puntaje | C27: 30 | D27: Se otorga un (1) restablecimiento | E27: 30
A28: Continuidad de amparo y/o extensión de cobertura, hasta 60 días después de desvinculado el funcionario, siempre y cuando se encuentre dentro de la vigencia de la póliza. La aceptación de esta condición otorgará el puntaje ofrecido, la negación para aceptar esta condición no concederá puntaje | C28: 20 | D28: Se otorga | E28: 20
A29: Errores, omisiones e inexactitudes no intencionales. El tomador está obligado a declarar sinceramente los hechos y circunstancias que determinen el estado del riesgo. La inexactitud sobre hechos o circunstancias que, conocidas por la compañía, la hubieren retraído de celebrar el contrato o inducido a estipular condiciones más onerosas, produce la nulidad relativa del seguro. Sin embargo, si se incurriere en errores, omisiones e inexactitudes imputables al tomador o al asegurado, el contrato no será nulo ni habrá lugar a la aplicación del inciso tercero del artículo 1058 del Código de Comercio sobre reducción porcentual de la prestación asegurada. En este caso se deberá pagar la prima adecuada al verdadero estado del riesgo. La aceptación de esta condición otorgará el puntaje ofrecido, la negación para aceptar esta condición no concederá puntaje | C29: 20 | D29: Se otorga | E29: 20
A30: Límite adicional para las siguientes condiciones y coberturas. Para tener derecho a puntaje, el límite adicional que se ofrezca debe ser superior al 10% del límite asegurado. Se califica con el máximo puntaje el mayor límite ofrecido en exceso del básico obligatorio, los demás en forma proporcional. | C30: 30 | D30: Se otorga el 80% del valor asegurado | E30: 30
A31: Pérdidas causadas por empleados o servidores no identificados (mínimo 10% máximo 40% del límite asegurado)
A32: Pérdidas causadas por empleados ocasionales, temporales, transitorios y de firmas especializadas, incluyendo contratistas independientes y personas con contrato de prestación de servicios. (mínimo 10% máximo 40% del límite asegurado) | C32: 30 | D32: Se otorga el 80% del valor asegurado | E32: 30
A33: Protección de depósitos bancarios (mínimo 10% máximo 60% del límite asegurado) | C33: 20 | D33: Se otorga el 60% del valor asegurado | E33: 20
A34: No aplicación de la cláusula de compensación. La Aseguradora no podrá a su arbitrio aplicar en la liquidación de valor de las indemnizaciones de los reclamos que afecten esta póliza, sumas de dinero que la Entidad asegurada adeude al (los) empleado (s) involucrado (s) en las acciones, omisiones y/o delitos contra la administración pública, que dan lugar al siniestro, a menos que exista fallo judicial debidamente ejecutoriado que así lo determine. La aceptación de esta condición otorgará el puntaje ofrecido, la negación para aceptar esta condición no concederá puntaje. | C34: 20 | D34: Se otorga | E34: 20
A35: Total puntos condiciones complementarias | C35: =SUM(C7:C34) -> 300 | E35: =SUM(E7:E34) -> 300

Sheet AU
A1: ANEXO No. 2
A2: EMPRESAS PUBLICAS DE CUNDINAMARCA S.A. ESP
A3: SEGURO DE AUTOMÓVILES
A4: CONDICIONES TÉCNICAS COMPLEMENTARIAS
A5: Condición | B5: Puntaje máximo otorgable por cada condición | C5: OFERENTES
C6: LA PREVISORA S.A. COMPAÑÍA DE SEGUROS | D6: PUNTAJE
A7: Ampliación límite de cobertura responsabilidad civil extracontractual. Valor ofrecido no menor a $50.000.000 | B7: 30 | C7: SE otorga un límite total de $700.000.000/$700.000.000/1.400.000.000 | D7: 30
A8: Se califica con el máximo puntaje el mayor límite adicional al básico obligatorio; los demás en forma proporcional, utilizando una regla de tres.
A9: Amparo de muerte accidental o incapacidad permanente para ocupantes. | B9: 20 | C9: No se otorga | D9: 0
A10: Se califica con el máximo puntaje el mayor límite ofrecido por ocupante, los demás en forma proporcional, utilizando una regla de tres.
A11: Extensión de cobertura en responsabilidad civil cuando el vehículo no esté siendo conducido ó hurtado. | B11: 20 | C11: Se otorga | D11: 20
A12: La aceptación de esta condición otorgará el puntaje ofrecido, la negación para aceptar esta condición no concederá puntaje.
A13: Accidentes personales para el conductor mínimo $25.000.000. Se califica con el máximo puntaje el mayor límite ofrecido por ocupante, los demás en forma proporcional, utilizando una regla de tres. | B13: 20 | C13: Se otorga un límite total de $40.000.000 | D13: 20
A14: Casa cárcel | B14: 20 | C14: Se otorga un límite de 65 SDMLV | D14: 20
A15: Se califica con el máximo puntaje el mayor límite adicional al básico obligatorio; los demás en forma proporcional, utilizando una regla de tres
A16: Para tener derecho al puntaje, el límite adicional ofrecido deberá ser como mínimo el 10% del límite de la condición básica
A17: Actos de autoridad | B17: 20 | C17: Se otorga | D17: 20
A18: Se califica con el máximo puntaje el mayor límite adicional al básico obligatorio; los demás en forma proporcional, utilizando una regla de tres
A19: Para tener derecho al puntaje, el límite adicional ofrecido deberá ser como mínimo el 10% del límite de la condición básica
A20: Gastos de transporte por pérdidas totales (tiempo máximo de indemnización) | B20: 40 | C20: Se otorga un límite total de 60 días | D20: 40
A21: Se califica con el máximo puntaje el mayor número de días adicionales al básico obligatorio; los demás en forma proporcional, utilizando una regla de tres
A22: Para tener derecho al puntaje, el límite adicional ofrecido deberá ser como mínimo cinco (5) días
A23: Gastos de transporte por pérdidas totales | B23: 20 | C23: Se otorga un límite total de $32.000 diarios | D23: 20
A24: Se califica con el máximo puntaje el mayor límite adicional al básico obligatorio; los demás en forma proporcional, utilizando una regla de tres
A25: Para tener derecho al puntaje, el límite adicional ofrecido deberá ser como mínimo el 10% del límite de la condición básica
A26: Bono de retorno por experiencia siniestral (B). | B26: 20 | C26: No se otorga | D26: 0
A27: La aseguradora reconocerá a la entidad una devolución sobre la prima recaudada del periodo (sin IVA), del valor calculado sobre el valor positivo que resulte de aplicar la siguiente fórmula:
A29: B =X (0.8 P - S)
A30: Donde:
A31: B = Bonificación de retorno por experiencia siniestral.
A32: P = Primas recaudadas del periodo.
A33: S = Siniestros que afecten la póliza del periodo (Valor indemnizado siniestros + Valor a indemnizar siniestros pendientes)
A34: X = Factor calificable
A35: Los siniestros a los que se refiere la fórmula arriba indicada, serán registrados siempre que la fecha de su aviso a la aseguradora corresponda a la vigencia objeto del cálculo.
A36: Se califica con el máximo puntaje el mayor factor ofrecido, (el cual debe encontrarse dentro del rango de los números mayores que 0.1 y hasta 1.0); los demás en forma proporcional.
A37: Errores, omisiones e inexactitudes no intencionales. El tomador está obligado a declarar sinceramente los hechos y circunstancias que determinen el estado del riesgo. La inexactitud sobre hechos o circunstancias que, conocidas por la compañía, la hubieren retraído de celebrar el contrato o inducido a estipular condiciones más onerosas, produce la nulidad relativa del seguro. Sin embargo, si se incurriere en errores, omisiones e inexactitudes imputables al tomador o al asegurado, el contrato no será nulo ni habrá lugar a la aplicación del inciso tercero del artículo 1058 del Código de Comercio sobre reducción porcentual de la prestación asegurada. En este caso se deberá pagar la prima adecuada al verdadero estado del riesgo. La aceptación de esta condición otorgará el puntaje ofrecido, la negación para aceptar esta condición no concederá puntaje. | B37: 20 | C37: Se otorga | D37: 20
A38: Descuento por inactividad mayor a 120 días continuos. La aceptación de esta condición otorgará el puntaje ofrecido, la negación para aceptar esta condición no concederá puntaje. | B38: 20 | C38: Se otorga previa demostración de inactividad | D38: 20
A39: Daños causados al vehículo cuando tenga permanencia en patios ó parqueaderos incluyendo su traslado en grúa | B39: 10 | C39: No se otorga | D39: 0
A40: Daños causados al vehículo cuando el mismo sea transportado | B40: 10 | C40: No se otorga | D40: 0
A41: Cobertura para proveer vehículo sustituto (no opera para vehículos pesados): | B41: 10 | C41: No se otorga | D41: 0
...

Sheet RCE
A1: ANEXO No. 2
A2: EMPRESAS PUBLICAS DE CUNDINAMARCA S.A. ESP
A3: PÓLIZA DE SEGURO DE RESPONSABILIDAD CIVIL EXTRACONTRACTUAL
A4: CONDICIONES TÉCNICAS COMPLEMENTARIAS
A5: Condición | B5: Puntaje | F5: OFERENTES
F6: LA PREVISORA S.A. COMPAÑÍA DE SEGUROS | G6: PUNTAJE
A7: Limite asegurado adicional al básico sin cobro de prima adicional. Para la calificación de esta condición se asignará el mayor puntaje al proponente que ofrezca el mayor límite asegurado (no inferior a $50.000.000) adicional al básico, los demás obtendrán un puntaje proporcional, utilizado una regla de tres. | B7: 70 | F7: Se otorga $50.000.000 adicionales | G7: 70
A8: Restablecimiento automático del límite asegurado por pago de siniestro por más de una vez. Se otorgará el mayor puntaje al proponente que ofrezca el mayor numero de veces de restablecimiento, los demás ontendrá el puntaje de manera proporcional, utilizando una regla de tres. | B8: 50 | F8: No se otorga | G8: 0
A9: Responsabilidad civil derivada de montajes, construcciones y obras civiles para el mantenimiento o ampliación de predios. Se otorgará el mayor puntaje al proponente que ofrezca el mayor límite de cobertura en este amparo en adición al básico. Los demás límites puntuarán de manera proporcional, utilizando una regla de tres. | B9: 20 | F9: No se otorga | G9: 0
A10: Sublímite de Responsabilidad civil cruzada entre Contratistas. Se califica con el máximo puntaje el mayor límite adicional al básico obligatorio, los demás en forma proporcional, utilizando una regla de tres. | B10: 20 | F10: Se otorga un límite total de $400.000.000 evento/$800.000.000 vigencia | G10: 20
A11: Sublímite de Responsabilidad civil Contratistas y Sucontratistas. Se califica con el máximo puntaje el mayor límite adicional al básico obligatorio, los demás en forma proporcional, utilizando una regla de tres. | B11: 20 | F11: Se otorga un límite total de $400.000.000 evento/$800.000.000 vigencia | G11: 20
A12: Sublímite de Responsabilidad Civil Parqueaderos y predios del asegurado. incluyendo Daños, Hurto y Hurto Calificado de vehículos y de Accesorios, Se califica con el máximo puntaje el mayor límite adicional al básico obligatorio, los demás en forma proporcional, utilizando una regla de tres. | B12: 20 | F12: No se otorga | G12: 0
A13: Sublímite Gastos Médicos en adición al básico obligatorio. Se califica con el máximo puntaje el mayor límite adicional al básico obligatorio, los demás en forma proporcional, utilizando una regla de tres. | B13: 20 | F13: No se otorga | G13: 0
A14: Sublímite Responsabilidad civil derivada del uso de vehículos propios y no propios. Se califica con el máximo puntaje el mayor límite adicional al básico obligatorio, los demás en forma proporcional, utilizando una regla de tres. | B14: 20 | F14: Se otorga 30% por vehículo, 60% por vigencia | G14: 20
A15: Sublímite de Responsabilidad civil Patronal. Se califica con el máximo puntaje el mayor límite adicional al básico obligatorio, los demás en forma proporcional, utilizando una regla de tres. | B15: 20 | F15: Se otorga un límite total de $300.000.000 evento/$600.000.000 vigencia | G15: 20
A16: Amparo de Culpa grave __% del límite asegurado. Se califica con el máximo puntaje el mayor límite ofrecido, en adición al básico, los demás en forma proporcional, utilizando una regla de tres. | B16: 20 | F16: Se otorga hasta el 100% del valor asegurado | G16: 20
A17: Bono de retorno por experiencia siniestral (B). La Aseguradora sin importar que la póliza no sea renovada con la misma compañía aseguradora, reconocerá a la Entidad una devolución sobre la prima recaudada del periodo (sin IVA), del valor calculado sobre el valor positivo que resulte de aplicar la siguiente formula: B = X (0.7 P - S) Donde: B = Bonificación de retorno por experiencia siniestral. P = Primas recaudadas del periodo. S = Siniestros que afecten la póliza (Valor indemnizado siniestros + Valor a indemnizar siniestros pendientes) X = Factor calificable (mínimo 0.1) Los siniestros a los que se refiere la fórmula arriba indicada, serán registrados siempre que la fecha de su aviso a la aseguradora corresponda a la vigencia objeto del cálculo.La liquidación se realizará por periodo anual y pago de la bonificación, lo deberá efectuar la aseguradora dentro de los dos (2) meses siguientes al vencimiento de cada vigencia anual. Se califica con el máximo puntaje el mayor factor ofrecido, (el cual debe encontrarse dentro del rango de los números mayores que 0.1 o iguales a 1), los demás en forma proporcional. | B17: 10 | F17: No se otorga | G17: 0
A18: Ampliación del plazo para aviso de no renovación o prórroga de la póliza. En el caso de que la aseguradora decida no otorgar renovación o prórroga del contrato de seguro, queda entendido, convenido y aceptado que la Aseguradora deberá dar aviso de ello al asegurado con no menos de ______ días (adicionales a los 45 días de la condición báscia) de antelación a la fecha de vencimiento de la póliza, en caso contrario se dará por entendido que la Aseguradora acepta la renovación o prorroga, previa autorización de la Entidad, hasta el límite legal establecido en la Ley 80 de 1993, para la adición de los contratos y manteniendo las mismas condiciones ofertadas en este proceso. Para la calificación de esta condición, se asignará el mayor puntaje al proponente que ofrezca el mayor lnúmero de días, los demás en forma proporcional | B18: 10 | F18: Se otorga 90 días | G18: 10
A19: Total Puntos - Condiciones Complementarias | B19: =SUM(B7:E18) -> 300 | G19: =SUM(G7:G18) -> 180

Sheet TREYM
A2: ANEXO No. 2
A3: EMPRESAS PUBLICAS DE CUNDINAMARCA S.A. ESP
A4: PÓLIZA DE SEGURO DE TODO RIESGO EQUIPO Y MAQUINARIA
A5: CONDICIONES TÉCNICAS COMPLEMENTARIAS
A6: 1. Puntajes Condiciones Complementarias | C6: OFERENTES
A7: Condición | B7: Puntaje | C7: LA PREVISORA S.A. COMPAÑÍA DE SEGUROS | D7: PUNTAJE
A8: Bono de retorno por experiencia siniestral (B). La Aseguradora sin importar que la póliza no sea renovada con la misma compañía aseguradora, reconocerá a la Entidad una devolución sobre la prima recaudada del periodo (sin IVA), del valor calculado sobre el valor positivo que resulte de aplicar la siguiente formula, adicional al básico obligatorio (No se califican francciones): B = X (0.7 P - S) Donde: B = Bonificación de retorno por experiencia siniestral. P = Primas recaudadas del periodo. S = Siniestros que afecten la póliza (Valor indemnizado siniestros + Valor a indemnizar siniestros pendientes) X = Factor calificable (mínimo 0.1) Los siniestros a los que se refiere la fórmula arriba indicada, serán registrados siempre que la fecha de su aviso a la aseguradora corresponda a la vigencia objeto del cálculo.La liquidación se realizará por periodo anual y pago de la bonificación, lo deberá efectuar la aseguradora dentro de los dos (2) meses siguientes al vencimiento de cada vigencia anual. Se califica con el máximo puntaje el mayor factor ofrecido, (el cual debe encontrarse dentro del rango de los números mayores que 0.1 o iguales a 1), los demás en forma proporcional. | B8: 40 | C8: Se otorga un factor de 0.01 B=X(0.8P-S) X=0.01 | D8: 40
A9: Cobertura automática para Maquinaria y Equipo. Se califica con el máximo puntaje el mayor límite adicional al básico obligatorio, los demás en forma proporcional. | B9: 30 | C9: Se otorga un límite total de $1.500.000.000 | D9: 30
A10: Cobertura para Equipos bajo tierra sublimite $500.000.000. La compañía de seguros indemnizará al asegurado toda perdida o daño que sufran los bienes asegurados a consecuencia de avería, inundación, corrimiento de tierra, caída de rocas, hundimiento o asentamiento; cuando estos se encuentren trabajando en túneles o minas subterráneas. La aceptación de esta condición otorgará el puntaje ofrecido, la negación para aceptar esta condición no concederá puntaje. | B10: 30 | C10: Se otorga | D10: 30
A11: Amparo automático para maquinaria que por error involuntario no se haya incluido en la relación inicial, con aviso de 90 días. La aceptación de esta condición otorgará el puntaje ofrecido, la negación para aceptar esta condición no concederá puntaje. | B11: 30 | C11: Se otorga | D11: 30
A12: Restablecimiento de la suma asegurada para AMIT Y AMCCOPH, Sabotaje y Terrorismo Se califica con el máximo puntaje el mayor límite ofrecido, los demás en forma proporcional. | B12: 40 | C12: No se otorga | D12: 0
A13: Sublimite Responsabilidad Civil Extracontractual. Se califica con el máximo puntaje el mayor límite adicional al básico obligatorio, los demás en forma proporcional. | B13: 40 | C13: No se otorga | D13: 0
A14: Término en días adicional al plazo básico mínimo de 10 días para el aviso de cancelación o revocación de la cobertura de AMIT Y AMCCOPH. Se califica con el máximo puntaje el mayor número de días calendario adicionales al mínimo exigido de diez (10) días, los demás en forma proporcional. | B14: 30 | C14: No se otorga | D14: 0
A15: Autorización de reparaciones por parte del locatario, sin autorización por parte de la Aseguradora hasta $10.000.000. La aceptación de esta condición otorgará el puntaje ofrecido, la negación para aceptar esta condición no concederá puntaje. | B15: 30 | C15: Se otorga hasta $15.000.000 | D15: 30
A16: Límite adicional para Traslado temporal de bienes y/o equipos. Se califica con el máximo puntaje el mayor límite adicional al básico obligatorio, los demás en forma proporcional. | B16: 30 | C16: Se otorga | D16: 0
A17: Total Puntos - Condiciones Complementarias | B17: =SUM(B8:B16) -> 300 | D17: =SUM(D8:D16) -> 160

Sheet IRF
A1: ANEXO No. 2
A2: EMPRESAS PUBLICAS DE CUNDINAMARCA S.A. ESP
A3: SEGURO DE INFIDELIDAD Y RIESGOS FINANCIEROS CONDICIONES TÉCNICAS COMPLEMENTARIAS
A4: Condición | B4: Puntaje máximo otorgable por cada condición | C4: OFERENTES
C5: LA PREVISORA S.A. COMPAÑÍA DE SEGUROS | D5: PUNTAJE | E5: UNIÓN TEMPORAL CHUBB DE COLOMBIA COMPAÑÍA DE SEGUROS S.A. Y ACE SEGUROS S.A. | F5: PUNTAJE
A6: Cláusula de Infidelidad o deshonestidad de empleados bajo la forma DHP73 o similares. Mediante la cual se ampara la pérdida resultante directa y únicamente de actos dolosos o fraudulentos cometidos por los empleados del asegurado, sin que sea necesario probar la intención manifiesta de ocasionar la pérdida ni la intención de obtener ganancia personal para él o los empleados implicados. La aceptación de esta condición otorgará el puntaje ofrecido, la negación para aceptar esta condición no concederá puntaje. | B6: 45 | C6: No se otorga | D6: 0 | E6: No se otorga | F6: 0
A7: No incorporación de la cláusula de Control de Reclamos: en consecuencia no es necesario que el asegurado notifique al reasegurador, ni que la aseguradora quede supeditada al reasegurador para la atención de los siniestros que puedan afectar esta póliza. La aceptación de esta condición otorgará el puntaje ofrecido, la negación para aceptar esta condición no concederá puntaje. | B7: 45 | C7: No se otorga | D7: 0 | E7: No se otorga | F7: 0
A8: No incorporación de la cláusula de limitación de descubrimiento: Por lo tanto la siguiente condición queda anulada: "No obstante lo que en contrario se diga en las condiciones generales de la póliza, queda convenido y acordado que no habrá ninguna responsabilidad con respecto a reclamos: • Que provengan de cualquier circunstancia u ocurrencia, el cual haya sido notificado al asegurador de cualquier otra póliza de seguro efectuada antes de la iniciación de esta póliza. • Que provengan de cualquier circunstancia u ocurrencia conocida por el asegurado con anterioridad a la iniciación de la presente póliza y no informada o descubierta a LA ASEGURADORA (proponente adjudicado) al momento de la iniciación de la vigencia." La aceptación de esta condición otorgará el puntaje ofrecido, la negación para aceptar esta condición no concederá puntaje. | B8: 45 | C8: No se otorga | D8: 0 | E8: No se otorga | F8: 0
A9: Eliminación de garantías clausulado original, las cuales no se pueden contemplar como exclusiones. La aceptación de esta condición otorgará el puntaje ofrecido, la negación para aceptar esta condición no concederá puntaje. | B9: 45 | C9: No se otorga | D9: 0 | E9: No se otorga | F9: 0
A10: Limite asegurado adicional al básico sin cobro de prima adicional. Para la calificación de esta condición, se asignará el mayor puntaje al proponente que ofrezca, en adición al límite contratado en las condiciones básicas obligatorias, el mayor límite asegurado (no inferior a $200.000.000), sin cobro de prima adicional. Se califica con el máximo puntaje el mayor límite ofrecido, los demás en forma proporcional. | B10: 60 | C10: No se otorga | D10: 0 | E10: No se otorga | F10: 0
A11: Visitas de firmas especializadas para el análisis de los riesgos: Si se considera necesaria una o varias visitas de firmas especializadas en análisis de riesgos el valor de las visitas debe ser asumido en su totalidad por la Aseguradora/oferente. Distribución de puntajes: Realización 1 Survey a costo del oferente: 50% de los puntos Realización 1 Ethical Hacking a costo del oferente: 50% de los puntos | B11: 45 | C11: No se otorga | D11: 0 | E11: No se otorga | F11: 0
A12: Gastos de horas extras, trabajo nocturno o en días festivo, flete expreso y flete . Bajo esta cobertura se amparan los gastos adicionales y extraordinarios por concepto de horas extras, trabajo nocturno o en días festivos, flete expreso y flete aéreo, que se incurra con motivo de una pérdida o daño amparado.La aceptación de esta condición otorgará el puntaje ofrecido, la negación para aceptar esta condición no concederá puntaje. | B12: 15 | C12: No se otorga | D12: 0 | E12: No se otorga | F12: 0
A13: Total Puntos - Condiciones Complementarias | B13: =SUM(B6:B12) -> 300 | D13: =SUM(D6:D12) -> 0 | F13: =SUM(F6:F12) -> 0

Sheet RCSP
A1: ANEXO No. 2
A2: EMPRESAS PUBLICAS DE CUNDINAMARCA S.A. ESP
A3: PÓLIZA DE SEGURO DE RESPONSABILIDAD CIVIL SERVIDORES PÚBLICOS
A4: CONDICIONES TÉCNICAS COMPLEMENTARIAS
A5: Condición | B5: Puntaje | C5: OFERENTES
C6: LA PREVISORA S.A. COMPAÑÍA DE SEGUROS | D6: PUNTAJE | E6: UNIÓN TEMPORAL CHUBB DE COLOMBIA COMPAÑÍA DE SEGUROS S.A. Y ACE SEGUROS S.A. | F6: PUNTAJE
A7: Límite para perjuicios o detrimentos patrimoniales agregado adicional al básico sin cobro de prima adicional | B7: 30 | C7: No se otorga | D7: 0 | E7: Se otorgan $500.000.000 adicionales al básico obligatorio para un total de $2.500.000.000 evento/agregado vigencia combinado con gastos de defensa | F7: 30
A8: Para la calificación de esta condición, se asignará el mayor puntaje al proponente que ofrezca el mayor límite ofrecido, los demás en forma proporcional. Para tener derecho al puntaje, el límite adicional ofrecido deberá ser como mínimo el 10% del límite de la condición básica
A9: Límite para gastos de defensa agregado adicional al básico sin cobro de prima adicional | B9: 30 | C9: No se otorga | D9: 0 | E9: Se otorgan $200.000.000 adicionales al básico obligatorio para un total de $600.000.000 evento/agregado vigencia combinado con perjuicios patrimoniales | F9: 30
A10: Para la calificación de esta condición, se asignará el mayor puntaje al proponente que ofrezca el mayor límite ofrecido, los demás en forma proporcional. Para tener derecho al puntaje, el límite adicional ofrecido deberá ser como mínimo el 10% del límite de la condición básica
A11: Límite para gastos de defensa por funcionario, al básico sin cobro de prima adicional | B11: 30 | C11: No se otorga | D11: 0 | E11: Se otorgan $10.000.000 adicionales al básico obligatorio, para un total de $40.000.000 por funcionario sin limitarse la cobertura por etapas del proceso | F11: 30
A12: Para la calificación de esta condición, se asignará el mayor puntaje al proponente que ofrezca el mayor límite ofrecido, los demás en forma proporcional. Para tener derecho al puntaje, el límite adicional ofrecido deberá ser como mínimo el 10% del límite de la condición básica
A13: Bono de retorno por experiencia siniestral (B). | B13: 10 | C13: No se otorga | D13: 0 | E13: SE otorga bono retorno del 8% con la fórmula descrita por la Entidad | F13: 10
A14: La Aseguradora reconocerá a la Entidad una devolución sobre la prima recaudada del periodo (sin IVA), del valor calculado sobre el valor positivo que resulte de aplicar la siguiente formula:
A15: B = X (0.7 P - S)
A16: Donde:
A17: B = Bonificación de retorno por experiencia siniestral.
A18: P = Primas recaudadas del periodo.
A19: S = Siniestros que afecten la póliza (Pagados + Pendientes del periodo)
A20: X = Factor calificable
A21: Los siniestros a los que se refiere la fórmula arriba indicada, serán registrados siempre que la fecha de su aviso a la aseguradora corresponda a la vigencia objeto del cálculo.
A22: Se califica con el máximo puntaje el mayor factor ofrecido, (el cual debe encontrarse dentro del rango de los números mayores que 0 o iguales a 1), los demás en forma proporcional.
A23: Investigaciones internas: La aseguradora cubrirá las investigaciones que adelanten las dependencias de la entidad llámese control interno o similares, que cuentan con facultad legal para iniciar investigaciones a los servidores públicos que prestan sus servicios a la entidad | B23: 20 | C23: No se otorga | D23: 0 | E23: Se otorga con un sublimite individual de $5.000.000 por persona / Proceso, con un sublimite de $40.000.000 en el agregado vigencia | F23: 20
A24: 50% del puntaje para el sublímite individual mayor a $3.000.000 persona proceso
A25: 50% del puntaje para el sublímite anual mayor a $20.000.000
A26: Pago de indemnizaciones por concepto de perjuicios patrimoniales, antes del fallo de una acción de repetición o una vez se produzca el llamamiento en garantía con fines de repetición. Siempre y cuando se demuestre la ocurrencia y la cuantía de la pérdida. | B26: 10 | C26: No se otorga | D26: 0 | E26: Se otorga | F26: 10
A27: La aceptación de esta condición otorgará el puntaje ofrecido, la negación para aceptar esta condición no concederá puntaje
A28: Extensión de amparos a asesores externos y profesionales con contrato de prestación de servicios que se incluyan en la carátula y/o condiciones particulares. | B28: 20 | C28: No se otorga | D28: 0 | E28: Se otorga | F28: 20
A29: La aceptación de esta condición otorgará el puntaje ofrecido, la negación para aceptar esta condición no concederá puntaje
A30: Experticio técnico. Queda entendido, convenido y aceptado que en el evento de existir discrepancia entre la compañía y el asegurado en cuanto a si el siniestro constituye una pérdida o con relación a otros aspectos de orden técnico, la cuestión será sometida a la decisión de técnicos expertos en la actividad que desarrolla el asegurado, según los intereses afectados por el siniestro, siguiendo el procedimiento que para tal regulación prevén los artículos 2026 y siguientes del Código de Comercio. | B30: 10 | C30: Se otorga | D30: 10 | E30: Se otorga | F30: 10
A31: La aceptación de esta condición otorgará el puntaje ofrecido, la negación para aceptar esta condición no concederá puntaje
A32: Pago de indemnizaciones a elección de la Entidad. Queda entendido, convenido y aceptado, que en caso de siniestro amparado por este seguro, el asegurado tendrá la facultad de decidir si el pago de la indemnización se efectuará a su nombre o a nombre de una persona diferente. | B32: 10 | C32: Se otorga | D32: 10 | E32: Se otorga | F32: 10
A33: La aceptación de esta condición otorgará el puntaje ofrecido, la negación para aceptar esta condición no concederá puntaje
A34: Restablecimiento automático del valor asegurado hasta por una (1) vez con cobro de prima adicional a prorrata. | B34: 20 | C34: No se otorga | D34: 0 | E34: No se otorga | F34: 0
A35: La aceptación de esta condición otorgará el puntaje ofrecido, la negación para aceptar esta condición no concederá puntaje
A36: Restablecimiento del límite asegurado para Gastos de Defensa una vez agotado el límite básico contratado | B36: 20 | C36: No se otorga | D36: 0 | E36: No se otorga | F36: 0
A37: La aceptación de esta condición otorgará el puntaje ofrecido, la negación para aceptar esta condición no concederá puntaje
A38: Retorno por buena experiencia del 10% sobre el 70% de las primas menos el 100% de los siniestros, cálculo que se efectuará al finalizar la vigencia, independiente de que se presenten siniestros posteriores que afecten el período de retroactividad, sin ajuste de prima. | B38: 20 | C38: No se otorga | D38: 0 | E38: Se otorga bono retorno del 8% con la fórmula descrita por la Entidad | F38: 20
A39: Gastos de defensa originados en acción de repetición o llamamiento en garantía con fines de repetición iniciados por del asegurado, contra los servidores públicos amparados. La aceptación de esta condición otorgará el puntaje ofrecido, la negación para aceptar esta condición no concederá puntaje. | B39: 20 | C39: No se otorga | D39: 0 | E39: Se otorga | F39: 20
A40: Gastos de defensa para investigaciones por multas y sanciones y silencios administrativos positivos. La aceptación de esta condición otorgará el puntaje ofrecido, la negación para aceptar esta condición no concederá puntaje. | B40: 15 | C40: No se otorga | D40: 0 | E40: Se otorga | F40: 15
...
