Workbook

Sheet Concertacion 
B2: CONCERTACION COMPROMISOS ESTRATEGICOS Y/O INSTITUCIONALES
B3: 1. Identificacion
C4: 1.1. Nombre de la Entidad: | D4: Departamento Administrativo de la Funcion Publica
C5: 1.2. Dependencia | D5: Direccion de Empleo Publico
C6: 1.3. Nombre Gerente Publico | D6: Alex Rios
C7: 1.4. Nombre Superior Jerarquio | D7: Daniel Gomez
C8: 1.5. Fecha Sucripcion Acuerdo de Gestion | D8: 41656
C9: 1.6.Vigencia del Acuerdo de Gestion | D9: desde: 17/01/2014
D10: hasta: 31/12/2014
A12: 2. Concertacion
A13: Componentes
H14: 2.7. Observaciones
A15: N° | B15: 2.1. Peso | C15: 2.2. Compromisos Estrategicos y/o Institucionales | D15: 2.3. Actividades | E15: 2.4. Meta | F15: 2.5. Indicador | G15: 2.6. Fecha inicio-fin | H15: Gerente Publico | I15: Superior Jerarquico
A16: 1. | B16: 0.3 | C16: Elaboracion de los componentes a incluir en el PND 2015-2018 en materia de Empleo Publico | D16: 1. Evaluar los proyectos y metas establecidos en el PND 2010-2014 | E16: 4 | F16: N° de actividades realizadas en el periodo establecido/N° de actividades programadas en el periodo establecido | G16: 01/03/2014 - 03/06/2014
D17: 2. Realizar reuniones con los lideres de proyecto para definir metodologia y seguimiento a las propuestas
D18: 3. Definir y evaluar las propuestas presentadas
D19: 4. Elaborar el documento propuesta para presentar la Direccion General
A20: 2. | B20: 0.3 | C20: Seguimiento al cumplimiento de las metas establecidas para la implementacion del SIGEP a nivel nacional y territorial | D20: Definir las metas de capacitacion, asesoria y seguimiento para la vigencia 2014, nivel ncional y territorial | E20: 20 | F20: Porcentaje de cumplimiento de cronograma de actividades, proyecto SIGEP | G20: 02/02/2014-02/03/2014
D21: realizar reuniones con los coordinadores asignados para el seguimiento al cronograma de actividades | G21: 02/03/2014-28/11/2014
D22: seguimiento al indicador de crecimiento de hojas de vida y vinculacion de subsistema de recursos humanos | G22: 02/03/2014- 28/11/2014
A23: 3. | B23: 0.4 | C23: Definicion del modelo estrategico de planeacion del recurso humano | D23: Seguimiento al diagnostico de aplicabilidad del modelo estrategico de planeacion del recurso humano | E23: 15 | F23: N° de actividades realizadas en el periodo establecido/N° de actividades programadas en el periodo establecido | G23: 02/03/2014- 28/11/2014
D24: reuniones periodicas con el equipo de trabajo para definir metodologia de revision
D25: acompañamiento y seguimiento a la prueba piloto de implementacion
A26: Total | B26: =SUM(B16:B25) -> 1
C29: Firma del Superior Jerarquico | F29: Firma del Gerente Publico

Sheet Compromisos Gerenciales
D1: FORMATO DE CONCERTACIÓN Y EVALUACIÓN DE COMPROMISOS GERENCIALES | P1: CÓDIGO: GH-F435
P2: VERSIÓN: 00
P3: FECHA: 07/11/2024
P4: PÁGINA:
B6: I. IDENTIFICACIÓN
B8: INFORMACIÓN GERENTE PÚBLICO EVALUADO | J8: INFORMACIÓN EVALUADOR - SUPERIOR JERÁRQUICO
B9: Nombres y apellidos | J9: Nombres y apellidos
B10: Dependencia | J10: Dependencia
B11: Cargo | J11: Cargo
B12: Fecha de Ingreso a EPC | J12: Fecha de Ingreso a EPC
B14: Fecha concertación
B15: Periodo de evaluación | E15: Fecha inicio | G15: Fecha fin
B16: Fecha Evaluación
B18: II. CUMPLIMIENTO DEL PLAN ESTRATÉGICO
B19: CONCERTACIÓN | I19: EVALUACIÓN | N19: RESULTADO
B20: N° | C20: Objetivos institucionales | D20: Compromisos gerenciales | E20: Indicador | F20: Fecha inicio-fin dd/mm/aa | G20: Actividades | H20: Peso ponderado | I20: Avance | N20: % Cumplimiento año | O20: Resultado | P20: Evidencias
I21: % cumplimiento programado a 1er semestre | J21: % cumplimiento de Indicador 1er Semestre | K21: Observaciones del avance y oportunidad de mejora | L21: % cumplimiento programado a 2° semestre | M21: % Cumplimiento de indicador 2° Semestre | P21: Descripción | Q21: Ubicación
B22: 1 | N22: =IF(SUM(J22,M22)>100%,"NO PERMITIDO",SUM(J22,M22)) -> 0 | O22: =H22*N22/100% -> 0
B27: 2 | N27: =IF(SUM(J27,M27)>100%,"NO PERMITIDO",SUM(J27,M27)) -> 0 | O27: =H27*N27/100% -> 0
B32: 3 | N32: =IF(SUM(J32,M32)>100%,"NO PERMITIDO",SUM(J32,M32)) -> 0 | O32: =H32*N32/100% -> 0
B37: 4 | N37: =IF(SUM(J37,M37)>100%,"NO PERMITIDO",SUM(J37,M37)) -> 0 | O37: =H37*N37/100% -> 0
B42: 5 | N42: =IF(SUM(J42,M42)>100%,"NO PERMITIDO",SUM(J42,M42)) -> 0 | O42: =H42*N42/100% -> 0
B47: Total | H47: =IF(SUM(H22:H46)>100%,"supera el 100%",SUM(H22:H46)) -> 0 | O47: =SUM(O22:O46) -> 0
B49: III. CUMPLIMIENTO DE TAREAS ASIGNADAS POR LA GERENCIA
B50: Concertación para el desempeño sobresaliente (5% adicional. Describir los compromisos gerenciales adicionales) Para evaluar este punto tenga en cuenta el cumplimiento de los objetivos, la efectividad en la gestión, el porcentaje de avance en el cumplimiento de las metas y tareas asignadas por la gerencia.
B51: DESCRIPCIÓN | M51: ESTADO | O51: VALORACIÓN %
O59: =SUM(O52:O57) -> 0
B61: TOTAL EVALUACIÓN COMPROMISOS GERENCIALES | O61: =+O47+O59 -> 0
C64: Nombre completo y cargo quien valida registros de Dirección de Planeación | I64: Firma del Gerente Público | M64: Firma del Superior Jerárquico
I65: Nombre completo y cargo del Gerente Público | M65: Nombre completo y cargo del Superior Jerárquico
C67: Nombre completo y cargo quien valida registros de Dirección de Gestión Humana y Administrativa
B68: En la fecha _____________________ se le notifica a _______________________________________________ el resultado total de la Evaluación Anual de Acuerdo de Gestión del Gerente Público correspondiente al año ______. Se le entrega copia del resultado.
B69: IV. PLAN DE DESARROLLO DIRECTIVO
B70: Competencias objeto de mejoramiento priorizadas con base en los puntajes finales. | I70: Estrategias y acciones específicas de mejoramiento. Pueden ser nuevas o continuación de las anteriores

Sheet instructivo de diligenciamiento
B7: FORMATO DE CONCERTACIÓN Y EVALUACIÓN DE COMPROMISOS GERENCIALES
B9: Instructivo de Diligenciamiento
B11: ORIENTACIONES GENERALES
B13: Objetivo | C13: Establecer las distintas etapas que permitan concertar, formalizar, hacer seguimiento y evaluar el cumplimiento en el rendimiento de los Gerentes Públicos mediante los acuerdos de gestión a los gerentes públicos de Empresa Públicas de Cundinamarca, para el cumplimiento de la normatividad vigente y cumplimiento a los objetivos institucionales.
B14: Alcance | C14: El procedimiento de acuerdos de gestión para cargos definidos como gerentes públicos Inicia con la concertación de los compromisos gerenciales y finaliza con la evaluación del acuerdo de gestión. El registro de acuerdos de gestión de realiza al ingreso del gerente público, cambio de cargo, encargo mayor a tres meses, o retiro.
B15: Generalidades | C15: El acuerdo de gestión debe evaluarlo el superior jerárquico del gerente público y esta función es indelegable. En las entidades del orden territorial es gerente público quien cumple las cuatro condiciones siguientes: 1. Ser funcionario público 2. Pertenecer al nivel directivo 3. Ocupar un empleo de libre nombramiento y remoción 4. No estar desempeñando el cargo de: Secretario de Despacho, Director, Gerente, Rector de Institución de Educación Superior distinto a los entes universitarios autónomos. (Ver artículo 47 de la Ley 909 de 2004)
B16: Concertar acuerdo de gestión | C16: Concertar el acuerdo de Gestión entre el superior jerárquico y cada gerente público, entendiendo la concertación como un espacio de intercambio de expectativas personales y organizacionales, que se traducen en los compromisos gerenciales sin que se vea afectada la facultad que tiene el nominador para decidir. El acuerdo de gestión es producto del plan estratégico anual, establecido en los objetivos estratégicos, eje estratégico y meta.
B17: Revisar concertación acuerdo | C17: Validar cada directivo con la Dirección de Planeación los compromisos concertados con su superior jerárquico de acuerdo con la estructura de la EPC, los compromisos de su área a cargo teniendo en cuenta los planes, programas y políticas oficiales publicados en la página web de la empresa (plan indicativo, planes estratégicos e institucionales de la entidad, entre otros), así como considerando los lineamientos estratégicos internos que se tengan para el direccionamiento del área en la correspondiente vigencia del Acuerdo de Gestión. Si se presentan diferencias en los acuerdos concertados y el plan estratégico de hará devolución para realizar concertación. La Dirección de Gestión Humana y Administrativa verificará que el acuerdo concertado esté metodológicamente correcto.
B18: Formalizar el acuerdo de gestión | C18: Firmar el acuerdo de gestión validado por la Dirección de Planeación y la Dirección de Gestión Humana y Administrativa.
B19: Evaluación compromisos gerenciales y competencias | C19: Realizar la evaluación con corte al I semestre (30 junio) y II semestre (31 diciembre) de cada vigencia, o cuando se presente novedad de retiro. Se registrarán los valores dados en la evaluación de cumplimiento del acuerdo de gestión de compromisos gerenciales y valoración de competencias, cada evaluación que no supere los grados de aceptación deberá generarse un plan de desarrollo directivo.
B21: INSTRUCTIVO
B23: II. Cumplimiento de Plan Estratégico
B24: Objetivos institucionales | C24: Son los definidos en la planeación institucional en concordancia con lo establecido con el Plan Nacional de Desarrollo, el Plan Estratégico Sectorial, el Plan Estratégico Institucional y el Plan de Acción Anual y que deberán estar relacionados con los compromisos de cada gerente público.
B25: Compromisos Gerenciales | C25: Comprenden los resultados a ser medidos, cuantificados y verificados que adelantará el gerente público para el cumplimiento efectivo de los objetivos de la entidad. Se sugiere que los compromisos acordados en el ejercicio de la concertación deban ser mínimo 3 y máximo 5 por cada Gerente público.
B27: Indicador | C27: Es la representación cuantitativa en número o porcentaje que debe ser verificable objetivamente y mediante el cual se determina el cumplimiento de los compromisos gerenciales.
B28: Fecha inicio – fin | C28: Corresponde al lapso de ejecución del compromiso concertado en el cual deberán adelantarse las acciones necesarias para el cumplimiento del mismo.
B29: Actividades | C29: Corresponden a las principales acciones definidas por el gerente público que harán posible el logro de los compromisos gerenciales generando así las evidencias que permitan el seguimiento a la gestión. Estas no deberán ser menos de 3 ni más de 5 por cada compromiso gerencial.
B30: Peso ponderado | C30: Corresponde al porcentaje de cada compromiso concertado con el superior jerárquico, en función de las metas de la entidad. La asignación del peso porcentual por cada compromiso no podrá ser mayor de 40% ni menor a 10%, obteniendo en la sumatoria del porcentaje de todos los compromisos un máximo de 105%. Los factores del 5% adicional al 100% serán acordados entre el gerente público y su superior jerárquico (por ejemplo, el cumplimiento de las metas concertadas en menor tiempo al programado, el logro de un mayor número de actividades de las pactadas, es decir, el 5% de factor adicional se otorga por el cumplimiento de más de lo esperado). En cualquier caso, un gerente público debe concertar como mínimo el cumplimiento del 100% de sus compromisos gerenciales. Para la definición de los porcentajes se debe tener en cuenta la importancia estratégica de cada meta y compromiso concertado, otorgando así mayor ponderación a los compromisos que atiendan metas y/o resultados de mayor impacto para el cumplimiento de las metas institucionales.
B31: Porcentaje de cumplimiento programado al primer semestre | C31: Se registra el porcentaje programado de cumplimiento de cada compromiso gerencial para este periodo.
B32: Porcentaje de cumplimiento de indicador primer semestre | C32: Se verifica el avance de los compromisos e indicadores definidos en la etapa de concertación y se registra el resultado del indicador asociado al compromiso con corte al primer semestre del año.
B33: Observaciones del avance y Oportunidades de mejora | C33: Se registran los aspectos de mejora para el cumplimiento de los compromisos concertados que se encuentren retrasados conforme a lo programado.
B34: Porcentaje de cumplimiento programado al segundo semestre: | C34: Se registra el porcentaje programado de cumplimiento de cada compromiso gerencial durante este periodo.
B35: Porcentaje de cumplimiento de indicador segundo semestre | C35: se verifica el avance de los compromisos e indicadores definidos en la etapa de concertación y se registra el resultado del indicador asociado al compromiso con corte al segundo semestre del año (no acumulado). Este deberá expresarse en términos porcentuales reflejando lo ejecutado frente a lo programado durante este periodo.
B36: Porcentaje de cumplimiento del año | C36: Se refiere al resultado final alcanzado, que se obtiene de la sumatoria entre el cumplimiento del primer y segundo semestre de acuerdo con lo concertado.
... B38: Evidencias | C38: Comprende los soportes que acompañan la ejecución de los compromisos gerenciales y que pueden encontrarse de forma física y/o virtual. Para ello se deberá consignar una breve descripción del producto o actividad indicada como evidencia, así como la ubicación de la misma ya sea en medios físicos o electrónicos.
B40: III. Cumplimiento de tareas asignadas por la Gerencia
B41: DESCRIPCIÓN | C41: Describir los compromisos gerenciales adicionales, los cuales fueron asignamos mediante reuniones, comunicados y demás medios de comunicación.
B42: ESTADO | C42: Reporte de número de actividades cumplidas, en ejecución o no ejecutadas.
B43: VALORACIÓN | C43: Porcentaje de cumplimiento respecto al total de actividades asignadas.
B45: IV. Plan de desarrollo directivo
B46: Competencias objeto de mejoramiento priorizadas con base en los puntajes finales | C46: Determinar las competencias que su calificación fue igual o inferior a 3.
B47: Estrategias y acciones específicas de mejoramiento. Pueden ser nuevas o continuación de las anteriores | C47: Definir actividades que se desarrollaran para mejoramiento y desarrollo de competencias que no alcanzaron resultados esperados.

Sheet Competencias
D1: FORMATO VALORACIÓN DE COMPETENCIAS | J1: CÓDIGO: GH-F435
J2: VERSIÓN: 00
J3: FECHA: 07/11/2024
J4: PÁGINA:
B6: Criterios de valoración
B7: Es consistente en su comportamiento, da ejemplo e influye en otros, es un referente en su organización y trasciende su entorno de gestión. | J7: 5
B8: Es consistente en su comportamiento y se destaca entre sus pares y en los entornos donde se desenvuelve. Puede afianzar. | J8: 4
B9: Su comportamiento se evidencia de manera regular en los entornos en los que se desenvuelve. Puede mejorar. | J9: 3
B10: No es consistente en su comportamiento, requiere de acompañamiento. Puede mejorar. | J10: 2
B12: Competencias comunes y directivas | D12: Conductas asociadas | E12: Valoración de los servidores públicos [1-5] | H12: Valoración anterior | I12: Valoración actual | J12: Comentarios para la retroalimentación
E13: Superior | F13: Par | G13: Subalterno
E14: 0.6 | F14: 0.2 | G14: 0.2
B15: 1 | C15: Visión estratégica | D15: Articula objetivos, recursos y metas de forma tal que los resultados generen valor | I15: =SUM(E22:G22) -> 0
D16: Adopta alternativas si el contexto presenta obstrucciones a la ejecución de la planeación anual, involucrando al equipo, aliados y superiores para el logro de los objetivos
D17: Vincula a los actores con incidencia potencial en los resultados del área a su cargo, para articular acciones o anticipar negociaciones necesarias
D18: Monitorea periódicamente los resultados alcanzados e introduce cambios en la planeación para alcanzarlos
D19: Presenta nuevas estrategias ante aliados y superiores para contribuir al logro de los objetivos institucionales
D20: Comunica de manera asertiva, clara y contundente el objetivo o la meta, logrando la motivación y compromiso de los equipos de trabajo
D21: Traduce la visión y logra que cada miembro del equipo se comprometa y aporte, en un entorno participativo y de toma de decisiones.
B22: Total Puntaje del valorador | E22: =SUM(E15:E21)/5*60% -> 0 | F22: =SUM(F15:F21)/5*20% -> 0 | G22: =SUM(G15:G21)/5*20% -> 0
B23: 2 | C23: Liderazgo efectivo | D23: Forma equipos y les delega responsabilidades y tareas en función de las competencias, el potencial y los intereses de los miembros del equipo. | I23: =SUM(E28:G28) -> 0
D24: Crea compromiso y moviliza a los miembros de su equipo a gestionar, aceptar retos, desafíos y directrices, superando intereses personales para alcanzar las metas.
D25: Brinda apoyo y motiva a su equipo en momentos de adversidad, a la vez que comparte las mejores prácticas y desempeños y celebra el éxito con su gente, incidiendo positivamente en la calidad de vida laboral.
D26: Propicia, favorece y acompaña las condiciones para generar y mantener un clima laboral positivo en un entorno de inclusión.
D27: Fomenta la comunicación clara y concreta en un entorno de respeto
B28: Total Puntaje Evaluador | E28: =SUM(E23:E27)/5*60% -> 0 | F28: =SUM(F23:F27)/5*20% -> 0 | G28: =SUM(G23:G27)/5*20% -> 0
B29: 3 | C29: Planeación | D29: Prevé situaciones y escenarios futuros | I29: =SUM(E35:G35) -> 0
D30: Establece los planes de acción necesarios para el desarrollo de los objetivos estratégicos, teniendo en cuenta actividades, responsables, plazos y recursos requeridos; promoviendo altos estándares de desempeño
D31: Hace seguimiento a la planeación institucional, con base en los indicadores y metas planeadas, verificando que se realicen los ajustes y retroalimentando el proceso.
D32: Orienta la planeación institucional con una visión estratégica, que tiene en cuenta las necesidades y expectativas de los usuarios y ciudadanos
D33: Optimiza el uso de los recursos.
D34: Concreta oportunidades que generan valor a corto, mediano y largo plazo.
B35: Total Puntaje Evaluador | E35: =SUM(E29:E34)/5*60% -> 0 | F35: =SUM(F29:F34)/5*20% -> 0 | G35: =SUM(G29:G34)/5*20% -> 0
B36: 4 | C36: Toma de decisiones | D36: Elige con oportunidad, entre las alternativas disponibles, los proyectos a realizar, estableciendo responsabilidades precisas con base en las prioridades de la entidad. | I36: =SUM(E42:G42) -> 0
D37: Toma en cuenta la opinión técnica de los miembros de su equipo al analizar las alternativas existentes para tomar una decisión y desarrollarla.
D38: Decide en situaciones de alta complejidad e incertidumbre teniendo en consideración la consecución de logros y objetivos de la entidad.
D39: Efectúa los cambios que considera necesarios para solucionar los problemas detectados o atender situaciones particulares y se hace responsable de la decisión tomada.
D40: Detecta amenazas y oportunidades frente a posibles decisiones y elige de forma pertinente.
D41: Asume los riesgos de las decisiones tomadas
B42: Total Puntaje Evaluador | E42: =SUM(E36:E41)/4*60% -> 0 | F42: =SUM(F36:F41)/4*20% -> 0 | G42: =SUM(G36:G41)/4*20% -> 0
...

Sheet instructivo competencias
B4: FORMATO DE VALORACIÓN DE COMPETENCIAS
B6: Para llevar a cabo el ejercicio de valoración de las competencias se dispone el formato, se incluyen los campos cuyo alcance es el siguiente: Las competencias se valorarán en una escala de 1 a 5 que mide el desarrollo de las conductas esperadas, de acuerdo a los siguientes criterios de valoración:
C9: Criterio de valoración | G9: Puntaje
C10: Es consistente en su comportamiento, da ejemplo e influye en otros, es un referente en su organización y trasciende su entorno de gestión. | G10: 5
C11: Es consistente en su comportamiento y se destaca entre sus pares y en los entonos donde se desenvuelve. Puede afianzar. | G11: 4
C13: Su comportamiento se evidencia de manera regular en los entornos en los que se desenvuelve. Puede mejorar. | G13: 3
C15: No es consistente en su comportamiento, requiere de acompañamiento. Puede mejorar. | G15: 2
C16: Su comportamiento no se manifiesta, requiere de retroalimentación directa y acompañamiento. Puede mejorar. | G16: 1
B17: Esta valoración contempla la percepción que el superior jerárquico, el par y los subalternos tienen sobre las competencias comunes y directivas del Gerente Público.
B18: Competencias y conductas asociadas | C18: Son las establecidas en el Decreto 815 de 2018 que modifica el artículo 2.2.4.7 del Decreto 1083 de 2015.
B20: Evaluación anterior | C20: Se registra la información de la última evaluación disponible, resultado de la evaluación de competencias de la evaluación anterior. En caso de no contar con información se deja en blanco la casilla en mención.
B22: Evaluación actual | C22: Este resultado se obtiene de la valoración de cada una de las conductas asociadas a todas las competencias en una escala de 1 a 5, obteniendo por cada competencia un promedio simple. Este valor debe multiplicarse por el porcentaje previamente asignado a cada evaluador (superior jerárquico, 60%; par, 20%; subordinados, 20%, a quienes se le dará la opción de dar o no a conocer su identidad.)
B23: Comentarios para la retroalimentación | C23: El superior jerárquico visualiza la totalidad de la valoración integral de competencias e identifica y registra las fortalezas y oportunidades de desarrollo del gerente público que acompañan su gestión.
B25: Evaluación final | C25: Es el resultado final de la valoración realizada por su superior jerárquico, el par y sus subalternos de las competencias comunes y directivas.

Sheet SG SST
C1: FORMATO RENDICIÓN DE CUENTAS SG SST | I1: CÓDIGO: GH-F435
I2: VERSIÓN: 00
I3: FECHA:07/11/2024
I4: Página: 1 de 1
A6: Nombre del Servidor Público:
A8: Cargo que desempeña:
A10: RENDICIÓN DE CUENTAS SEGURIDAD Y SALUD EN EL TRABAJO
A11: RENDICIÓN DE CUENTAS SEGURIDAD Y SALUD EN EL TRABAJO | F11: 1 | G11: 2 | H11: 3 | I11: 4 | J11: 5
A12: 20. Procurar el cuidado integral de su salud.
A13: 21. Informar oportunamente al responsable del SG-SST acerca de los peligros y riesgos presentes en su lugar de trabajo.
A14: 22. Cumplir las normas, reglamentos, e instrucciones del SG-SST
A15: 23. Participar en las actividades de capacitación en seguridad y salud en el trabajo definido en el plan de capacitación del SG-SST
A16: 24. Participar y contribuir al cumplimiento de los objetivos del SG-SST
A17: 25. Suministrar información clara, veraz y oportuna de su estado de salud
A18: TOTAL PARCIAL RENDICIÓN DE CUENTAS | F18: =SUM(F12:J17)/6 -> 0 | J18: =+F18/(4) -> 0
H19: PUNTAJE OBTENIDO | J19: =+J18 -> 0
A21: Compromisos ¿Qué le recomendarías al trabajador para mejorar su cumplimiento frente al SG-SST?
A28: ANÁLISIS DEL RESULTADO
A30: ALTO ( 100%-85%) | C30: Cumple a cabalidad las metas establecidas en su cargo y rinde cuentas acorde a su responsabilidad
A31: MEDIO (84%-50%) | C31: Se debe implementar plan de mejoramiento para mejorar su desempeño y cumplir con sus responsabilidades frente al SST
A32: BAJO(49%-10%) | C32: Llamado de atención exigiendo mejores resultados en su cargo y cumplimiento frente a sus responsabilidades SST
A39: FIRMA Y NOMBRE DEL EMPLEADO | F39: FIRMA Y NOMBRE DE QUIEN SOCIALIZA

Sheet Seguimiento 2
B2: SEGUIMIENTO COMPROMISOS ESTRATEGICOS Y/O INSTITUCIONALES
B3: 1. Identificacion
C4: 1.1. Nombre de la Entidad: | D4: ='Concertacion '!D4 -> Departamento Administrativo de la Funcion Publica
C5: 1.2. Dependencia | D5: ='Concertacion '!D5 -> Direccion de Empleo Publico
C6: 1.3. Nombre Gerente Publico | D6: ='Concertacion '!D6 -> Alex Rios
C7: 1.4. Nombre Superior Jerarquio | D7: ='Concertacion '!D7 -> Daniel Gomez
C8: 1.5 Fecha Sucripcion Acuerdo de Gestion | D8: 41715
C9: 1.6. Vigencia del Acuerdo de Gestion | D9: desde: 17/03/2014
D10: hasta: 31/12/2014
C11: 1.7. Periodo de seguimiento | D11: desde: 17/03/2014
D12: hasta: 17/06/2014
A15: 2. Concertacion | H15: 3. Evaluacion
A16: N° | B16: 2.1. Peso | C16: 2.2. Compromisos Estrategicos y/o Institucionales | D16: 2.3. Actividades | E16: 2.4 Meta | F16: 2.5. Indicador | G16: 2.6. Fecha inicio-fin | H16: 3.1. Resultado | L16: 3.2. Acumulado | M16: 3.3. Resultado peso POA | N16: 3.4. Analisis | O16: 3.5. Evidencias | Q16: 2.7. Observaciones
A17: 1. | B17: 0.3 | C17: Elaboracion de los componentes a incluir en el PND 2015-2018 en materia de Empleo Publico | D17: 1. Evaluar los proyectos y metas establecidos en el PND 2010-2014 | E17: 4 | F17: N° de actividades realizadas en el periodo establecido/N° de actividades programadas en el periodo establecido | G17: 01/03/2014 - 03/06/2014 | H17: I trimestre | I17: II trimestre | J17: III trimestre | K17: IV trimestre | L17: % Avance | O17: Descripcion | P17: Ubicación | Q17: Gerente Publico | R17: Superior Jerarquico
D18: 2. Realizar reuniones con los lideres de proyecto para definir metodologia y seguimiento a las propuestas | H18: 0.25 | I18: =1/E17 -> 0.25 | L18: =SUM(H18:K18) -> 0.5 | M18: =2*B17/E17 -> 0.15 | N18: en los primeros tres meses de gestion se cumplieron todas las actividades propuestas, teniendo como producto final el documento de los programas y proyectos aprobado por la Direccion General para incluir en el PND 2015-2018 | O18: Listas de asistencia de reuniones y mesas de trabajo para definir programas y proyectos. Doumento de propuestas y aprobacion por la Direccion General | P18: las evidencias se encuentran en la ruta dep_documentos_DEP2014_PND 2015-2018 | Q18: El compromiso estrategico se cumple al 100% en los primeros tres meses ya que es una actividad planeada para este periodo, por lo tanto no se tienen resultados de II a IV trimestre
D19: 3. Definir y evaluar las propuestas presentadas
D20: 4. Elaborar el documento propuesta para presentar la Direccion General
A21: 2. | B21: 0.4 | C21: Seguimiento al cumplimiento de las metas establecidas para la implementacion del SIGEP a nivel nacional y territorial | D21: Definir las metas de capacitacion, asesoria y seguimiento para la vigencia 2014, nivel nacional y territorial | E21: 20 | F21: Porcentaje de cumplimiento de cronograma de actividades, proyecto SIGEP | G21: 02/02/2014-28/11/2014 | H21: 0.08 | I21: =7/E21 -> 0.35 | L21: =+H21+I21+J21+K21 -> 0.43 | M21: =9*B21/E21 -> 0.18
D22: realizar reuniones con los coordinadores asignados para el seguimiento al cronograma de actividades
D23: seguimiento al indicador de crecimiento de hojas de vida y vinculacion de subsistema de recursos humanos
A24: 3. | B24: 0.3 | C24: Definicion del modelo estrategico de planeacion del recurso humano | D24: Seguimiento al diagnostico de aplicabilidad del modelo estrategico de planeacion del recurso humano | E24: 15 | F24: N° de actividades realizadas en el periodo establecido/N° de actividades programadas en el periodo establecido | G24: 02/03/2014- 28/11/2014 | H24: 0.1 | I24: =5/E24 -> 0.33333333 | L24: =+H24+I24+J24+K24 -> 0.43333333 | M24: =8*B24/E24 -> 0.16
D25: reuniones periodicas con el equipo de trabajo para definir metodologia de revision
D26: acompañamiento y seguimiento a la prueba piloto de implementacion
A27: Total | B27: =SUM(B17:B26) -> 1 | H27: =SUM(H18:H26) -> 0.43 | I27: =SUM(I18:I26) -> 0.93333333 | L27: =SUM(L18:L26)/3 -> 0.45444444 | M27: =SUM(M18:M26) -> 0.49
D30: Firma del Superior Jerarquico | G30: Firma del Gerente Publico
B32: 4. Control de Cambios
B33: 4.1. Componente | C33: 4.2. Ajuste/Cambio | D33: 4.3. Control de Cambios | E33: 4.4. Fecha de Cambio | F33: 4.5. Evidencia | G33: 4.6. Firma del Superior Jerarquico | H33: 4.7. Firma del Gerente Publico
B34: Peso | C34: el peso actual del proyeto SIGEP es de 30%, sin embargo se aumenta al 40% | D34: De acuerdo al peso establecido, es necesario aumentar el peso de el compromiso estrategico y/o institucional al proyecto SIGEP y disminuyendo el peso a la definicion del modelo estrategico de planeacion de recurso humano, debido a que el alcance del proyecto SIGEP tiene una cobertura mas amplia | E34: 41807 | F34: la evidencia que soporta el cambio es el plan de proyecto de SIGEP, donde se especifica el alcance del mismo y se encuentra en la ruta xxx
B35: Compromiso Estrategico y/o Institucional
B36: Actividades
B37: Indicador
B38: Fecha de Inicio - fin

Sheet Seguimiento 3
B2: SEGUIMIENTO COMPROMISOS ESTRATEGICOS Y/O INSTITUCIONALES
B3: 1. Identificacion
C4: 1.1. Nombre de la Entidad: | D4: ='Concertacion '!D4 -> Departamento Administrativo de la Funcion Publica
C5: 1.2. Dependencia | D5: ='Concertacion '!D5 -> Direccion de Empleo Publico
C6: 1.3. Nombre Gerente Publico | D6: ='Concertacion '!D6 -> Alex Rios
C7: 1.4. Nombre Superior Jerarquio | D7: ='Concertacion '!D7 -> Daniel Gomez
C8: 1.5 Fecha Sucripcion Acuerdo de Gestion | D8: 41715
C9: 1.6. Vigencia del Acuerdo de Gestion | D9: desde: 17/03/2014
D10: hasta: 31/12/2014
C11: 1.7. Periodo de seguimiento | D11: desde: 17/06/2014
D12: hasta: 17/09/2014
A15: 2. Concertacion | H15: 3. Evaluacion
A16: N° | B16: 2.1. Peso | C16: 2.2. Compromisos Estrategicos y/o Institucionales | D16: 2.3. Actividades | E16: 2.4 Meta | F16: 2.5. Indicador | G16: 2.6. Fecha inicio-fin | H16: 3.1. Resultado | L16: 3.2. Acumulado | M16: 3.3. Resultado peso POA | N16: 3.4. Analisis | O16: 3.5. Evidencias | Q16: 2.7. Observaciones
A17: 1. | B17: 0.3 | C17: Elaboracion de los componentes a incluir en el PND 2015-2018 en materia de Empleo Publico | D17: 1. Evaluar los proyectos y metas establecidos en el PND 2010-2014 | E17: 4 | F17: N° de actividades realizadas en el periodo establecido/N° de actividades programadas en el periodo establecido | G17: 01/03/2014 - 03/06/2014 | H17: I trimestre | I17: II trimestre | J17: III trimestre | K17: IV trimestre | L17: % Avance | O17: Descripcion | P17: Ubicación | Q17: Gerente Publico | R17: Superior Jerarquico
D18: 2. Realizar reuniones con los lideres de proyecto para definir metodologia y seguimiento a las propuestas | H18: =1/E17 -> 0.25 | I18: =+'Seguimiento 2'!I18:I20 -> 0.25 | J18: =2/E17 -> 0.5 | L18: =+H18+I18+J18 -> 1 | M18: =4*B17/E17 -> 0.3 | N18: en los primeros tres meses de gestion se cumplieron todas las actividades propuestas, teniendo como producto final el documento de los programas y proyectos aprobado por la Direccion General para incluir en el PND 2015-2018 | O18: Listas de asistencia de reuniones y mesas de trabajo para definir programas y proyectos. Doumento de propuestas y aprobacion por la Direccion General | P18: las evidencias se encuentran en la ruta dep_documentos_DEP2014_PND 2015-2018 | Q18: El compromiso estrategico se cumple al 100% en los primeros tres meses ya que es una actividad planeada para este periodo, por lo tanto no se tienen resultados de II a IV trimestre
D19: 3. Definir y evaluar las propuestas presentadas
D20: 4. Elaborar el documento propuesta para presentar la Direccion General
A21: 2. | B21: 0.4 | C21: Seguimiento al cumplimiento de las metas establecidas para la implementacion del SIGEP a nivel nacional y territorial | D21: Definir las metas de capacitacion, asesoria y seguimiento para la vigencia 2014, nivel nacional y territorial | E21: 20 | F21: Porcentaje de cumplimiento de cronograma de actividades, proyecto SIGEP | G21: 02/02/2014-28/11/2014 | H21: =7/25 -> 0.28 | I21: =+'Seguimiento 2'!I21:I23 -> 0.35 | J21: =5/E21 -> 0.25 | L21: =+H21+I21+J21+K21 -> 0.88 | M21: =+L21*B21 -> 0.352
D22: realizar reuniones con los coordinadores asignados para el seguimiento al cronograma de actividades
D23: seguimiento al indicador de crecimiento de hojas de vida y vinculacion de subsistema de recursos humanos
A24: 3. | B24: 0.3 | C24: Definicion del modelo estrategico de planeacion del recurso humano | D24: Seguimiento al diagnostico de aplicabilidad del modelo estrategico de planeacion del recurso humano | E24: 15 | F24: N° de actividades realizadas en el periodo establecido/N° de actividades programadas en el periodo establecido | G24: 02/03/2014- 28/11/2014 | H24: =3/30 -> 0.1 | I24: =+'Seguimiento 2'!I24:I26 -> 0.33333333 | J24: =6/E24 -> 0.4 | L24: =+H24+I24+J24+K24 -> 0.83333333 | M24: =14*B24/E24 -> 0.28
D25: reuniones periodicas con el equipo de trabajo para definir metodologia de revision
D26: acompañamiento y seguimiento a la prueba piloto de implementacion
A27: Total | B27: =SUM(B17:B26) -> 1 | H27: =SUM(H18:H26) -> 0.63 | I27: =SUM(I18:I26) -> 0.93333333 | J27: =SUM(J18:J26) -> 1.15 | L27: =SUM(L18:L26)/3 -> 0.90444444 | M27: =SUM(M18:M26) -> 0.932
D30: Firma del Superior Jerarquico | G30: Firma del Gerente Publico
B32: 4. Control de Cambios
B33: 4.1. Componente | C33: 4.2. Ajuste/Cambio | D33: 4.3. Control de Cambios | E33: 4.4. Fecha de Cambio | F33: 4.5. Evidencia | G33: 4.6. Firma del Superior Jerarquico | H33: 4.7. Firma del Gerente Publico
B34: Peso | C34: el peso actual del proyeto SIGEP es de 30%, sin embargo se aumenta al 40% | D34: De acuerdo al peso establecido, es necesario aumentar el peso de el compromiso estrategico y/o institucional al proyecto SIGEP y disminuyendo el peso a la definicion del modelo estrategico de planeacion de recurso humano, debido a que el alcance del proyecto SIGEP tiene una cobertura mas amplia | E34: 41807 | F34: la evidencia que soporta el cambio es el plan de proyecto de SIGEP, donde se especifica el alcance del mismo y se encuentra en la ruta xxx
B35: Compromiso Estrategico y/o Institucional
B36: Actividades
B37: Indicador
B38: Fecha de Inicio - fin

Sheet Seguimiento 4
B2: SEGUIMIENTO COMPROMISOS ESTRATEGICOS Y/O INSTITUCIONALES
B3: 1. Identificacion
C4: 1.1. Nombre de la Entidad: | D4: ='Concertacion '!D4 -> Departamento Administrativo de la Funcion Publica
C5: 1.2. Dependencia | D5: ='Concertacion '!D5 -> Direccion de Empleo Publico
C6: 1.3. Nombre Gerente Publico | D6: ='Concertacion '!D6 -> Alex Rios
C7: 1.4. Nombre Superior Jerarquio | D7: ='Concertacion '!D7 -> Daniel Gomez
C8: 1.5 Fecha Sucripcion Acuerdo de Gestion | D8: 41715
C9: 1.6. Vigencia del Acuerdo de Gestion | D9: desde: 17/03/2014
D10: hasta: 31/12/2014
C11: 1.7. Periodo de seguimiento | D11: desde: 17/09/2014
D12: hasta: 31/12/2014
A15: 2. Concertacion | H15: 3. Evaluacion
A16: N° | B16: 2.1. Peso | C16: 2.2. Compromisos Estrategicos y/o Institucionales | D16: 2.3. Actividades | E16: 2.4 Meta | F16: 2.5. Indicador | G16: 2.6. Fecha inicio-fin | H16: 3.1. Resultado | L16: 3.2. Acumulado | M16: 3.3. Resultado peso POA | N16: 3.4. Analisis | O16: 3.5. Evidencias | Q16: 2.7. Observaciones
A17: 1. | B17: 0.3 | C17: Elaboracion de los componentes a incluir en el PND 2015-2018 en materia de Empleo Publico | D17: 1. Evaluar los proyectos y metas establecidos en el PND 2010-2014 | E17: 4 | F17: N° de actividades realizadas en el periodo establecido/N° de actividades programadas en el periodo establecido | G17: 01/03/2014 - 03/06/2014 | H17: I trimestre | I17: II trimestre | J17: III trimestre | K17: IV trimestre | L17: % Avance | O17: Descripcion | P17: Ubicación | Q17: Gerente Publico | R17: Superior Jerarquico
D18: 2. Realizar reuniones con los lideres de proyecto para definir metodologia y seguimiento a las propuestas | H18: =1/E17 -> 0.25 | I18: =+'Seguimiento 2'!I18:I20 -> 0.25 | J18: =+'Seguimiento 3'!J18:J20 -> 0.5 | K18: 0 | L18: =+H18+I18+J18+K18 -> 1 | M18: =4*B17/E17 -> 0.3 | N18: en los primeros tres meses de gestion se cumplieron todas las actividades propuestas, teniendo como producto final el documento de los programas y proyectos aprobado por la Direccion General para incluir en el PND 2015-2018 | O18: Listas de asistencia de reuniones y mesas de trabajo para definir programas y proyectos. Doumento de propuestas y aprobacion por la Direccion General | P18: las evidencias se encuentran en la ruta dep_documentos_DEP2014_PND 2015-2018 | Q18: El compromiso estrategico se cumple al 100% en los primeros tres meses ya que es una actividad planeada para este periodo, por lo tanto no se tienen resultados de II a IV trimestre
D19: 3. Definir y evaluar las propuestas presentadas
D20: 4. Elaborar el documento propuesta para presentar la Direccion General
A21: 2. | B21: 0.4 | C21: Seguimiento al cumplimiento de las metas establecidas para la implementacion del SIGEP a nivel nacional y territorial | D21: Definir las metas de capacitacion, asesoria y seguimiento para la vigencia 2014, nivel nacional y territorial | E21: 20 | F21: Porcentaje de cumplimiento de cronograma de actividades, proyecto SIGEP | G21: 02/02/2014-28/11/2014 | H21: =7/25 -> 0.28 | I21: =+'Seguimiento 2'!I21:I23 -> 0.35 | J21: =+'Seguimiento 3'!J21:J23 -> 0.25 | K21: =8/E21 -> 0.4 | L21: =+H21+I21+J21+K21 -> 1.28 | M21: =22*B21/E21 -> 0.44
D22: realizar reuniones con los coordinadores asignados para el seguimiento al cronograma de actividades
D23: seguimiento al indicador de crecimiento de hojas de vida y vinculacion de subsistema de recursos humanos
A24: 3. | B24: 0.3 | C24: Definicion del modelo estrategico de planeacion del recurso humano | D24: Seguimiento al diagnostico de aplicabilidad del modelo estrategico de planeacion del recurso humano | E24: 15 | F24: N° de actividades realizadas en el periodo establecido/N° de actividades programadas en el periodo establecido | G24: 02/03/2014- 28/11/2014 | H24: =3/30 -> 0.1 | I24: =+'Seguimiento 2'!I24:I26 -> 0.33333333 | J24: =+'Seguimiento 3'!J24:J26 -> 0.4 | K24: =1/E24 -> 0.066666667 | L24: =+H24+I24+J24+K24 -> 0.9 | M24: =15*B24/E24 -> 0.3
D25: reuniones periodicas con el equipo de trabajo para definir metodologia de revision
D26: acompañamiento y seguimiento a la prueba piloto de implementacion
A27: Total | B27: =SUM(B17:B26) -> 1 | H27: =SUM(H18:H26) -> 0.63 | I27: =SUM(I18:I26) -> 0.93333333 | J27: =SUM(J18:J26) -> 1.15 | K27: =SUM(K18:K26) -> 0.46666667 | L27: =SUM(L18:L26)/3 -> 1.06 | M27: =SUM(M18:M26) -> 1.04
D30: Firma del Superior Jerarquico | G30: Firma del Gerente Publico
B32: 4. Control de Cambios
B33: 4.1. Componente | C33: 4.2. Ajuste/Cambio | D33: 4.3. Control de Cambios | E33: 4.4. Fecha de Cambio | F33: 4.5. Evidencia | G33: 4.6. Firma del Superior Jerarquico | H33: 4.7. Firma del Gerente Publico
B34: Peso | C34: el peso actual del proyeto SIGEP es de 30%, sin embargo se aumenta al 40% | D34: De acuerdo al peso establecido, es necesario aumentar el peso de el compromiso estrategico y/o institucional al proyecto SIGEP y disminuyendo el peso a la definicion del modelo estrategico de planeacion de recurso humano, debido a que el alcance del proyecto SIGEP tiene una cobertura mas amplia | E34: 41807 | F34: la evidencia que soporta el cambio es el plan de proyecto de SIGEP, donde se especifica el alcance del mismo y se encuentra en la ruta xxx
B35: Compromiso Estrategico y/o Institucional
B36: Actividades
B37: Indicador
B38: Fecha de Inicio - fin

Sheet Final
B2: SEGUIMIENTO COMPROMISOS ESTRATEGICOS Y/O INSTITUCIONALES
A4: 2. Concertacion | H4: 3. Evaluacion
A5: N° | B5: 2.1. Peso | C5: 2.2. Compromisos Estrategicos y/o Institucionales | D5: 2.3. Actividades | E5: 2.4 Meta | F5: 2.5. Indicador | G5: 2.6. Fecha inicio-fin | H5: 3.1. Resultado | L5: 3.2. Acumulado | M5: 3.3. Resultado peso POA
A6: 1. | B6: 0.3 | C6: Elaboracion de los componentes a incluir en el PND 2015-2018 en materia de Empleo Publico | D6: 1. Evaluar los proyectos y metas establecidos en el PND 2010-2014 | E6: 4 | F6: N° de actividades realizadas en el periodo establecido/N° de actividades programadas en el periodo establecido | G6: 01/03/2014 - 03/06/2014 | H6: I trimestre | I6: II trimestre | J6: III trimestre | K6: IV trimestre | L6: % Avance
D7: 2. Realizar reuniones con los lideres de proyecto para definir metodologia y seguimiento a las propuestas | H7: =1/E6 -> 0.25 | I7: 0.25 | J7: 0.5 | K7: 0 | L7: =+H7+I7+J7+K7 -> 1 | M7: =4*B6/E6 -> 0.3
D8: 3. Definir y evaluar las propuestas presentadas
D9: 4. Elaborar el documento propuesta para presentar la Direccion General
A10: 2. | B10: 0.4 | C10: Seguimiento al cumplimiento de las metas establecidas para la implementacion del SIGEP a nivel nacional y territorial | D10: Definir las metas de capacitacion, asesoria y seguimiento para la vigencia 2014, nivel nacional y territorial | E10: 20 | F10: Porcentaje de cumplimiento de cronograma de actividades, proyecto SIGEP | G10: 02/02/2014-28/11/2014 | H10: =7/25 -> 0.28 | I10: 0.35 | J10: 0.25 | K10: =8/E10 -> 0.4 | L10: =+H10+I10+J10+K10 -> 1.28 | M10: =22*B10/E10 -> 0.44
D11: realizar reuniones con los coordinadores asignados para el seguimiento al cronograma de actividades
D12: seguimiento al indicador de crecimiento de hojas de vida y vinculacion de subsistema de recursos humanos
A13: 3. | B13: 0.3 | C13: Definicion del modelo estrategico de planeacion del recurso humano | D13: Seguimiento al diagnostico de aplicabilidad del modelo estrategico de planeacion del recurso humano | E13: 15 | F13: N° de actividades realizadas en el periodo establecido/N° de actividades programadas en el periodo establecido | G13: 02/03/2014- 28/11/2014 | H13: =3/30 -> 0.1 | I13: 0.33 | J13: 0.4 | K13: =1/E13 -> 0.066666667 | L13: =+H13+I13+J13+K13 -> 0.89666667 | M13: =15*B13/E13 -> 0.3
D14: reuniones periodicas con el equipo de trabajo para definir metodologia de revision
D15: acompañamiento y seguimiento a la prueba piloto de implementacion
A16: Total | B16: =SUM(B6:B15) -> 1 | H16: =SUM(H7:H15) -> 0.63 | I16: =SUM(I7:I15) -> 0.93 | J16: =SUM(J7:J15) -> 1.15 | K16: =SUM(K7:K15) -> 0.46666667 | L16: =SUM(L7:L15)/3 -> 1.0588889 | M16: =SUM(M7:M15) -> 1.04

Sheet Componente de Gestion Adicional
B3: Compromisos administrativos
B4: Aportes adicionales | E4: Puntaje de aporte | H4: Acción de mejora
E5: 1 | F5: 2 | G5: 3
B6: 1 | C6: MECI y Sistema de Gestión de Calidad
B7: 2 | C7: Política de Salud y Seguridad en el Trabajo
B8: 3 | C8: Plan Institucional de Capacitación.
B9: 4 | C9: Sistema de Estimulos para servidores públicos
B10: 5 | C10: Facilitar la Participación Ciudadana en la gestión
B11: 6 | C11: Promover espacios de Rendición de Cuentas de su gestión a la ciudadanía
B12: 7 | C12: Desarrollo y uso de tecnologías de la información
B13: 8 | C13: Actualización permanente del Sistema de Información para la Gestión del Empleo Público-SIGEP
B14: 9 | C14: Apropiación de los valores de la entidad
B15: 10
B16: 11
B17: 12
B19: El superior gerarquico evalúa una vez al final de cada vigencia.

Sheet Instructivo
B2: 1. Identificacion | C2: 1.1. Nombre de la Entidad:
C3: 1.2. Nombre Gerente Publico
C4: 1.3. Nombre Superior Jerarquio
C5: 1.3. Fecha Sucripcion Acuerdo de Gestion
C6: 1.4.Vigencia del Acuerdo de Gestion
B8: 2. Concertacion | C8: 2.1. Peso | D8: Asigne el puntaje de importancia que se le da a cada compromiso respecto a los demás, teniendo en cuenta la planeación estratégica de la Entidad, si el compromiso es de mayor importancia, entonces su peso será mayor, siendo la totalidad de los mismos 100%.
C9: 2.2. Compromisos Estrategicos y/o Institucionales | D9: Se entienden por compromisos institucionales los adquiridos para llevar a cabo el cumplimiento de los objetivos y metas estratégicas. Todo ello se concreta en el “Plan Operativo de Acción” (POA) de cada entidad pública.
C10: 2.3. Actividades | D10: son las acciones que se realizan para ejecutar el compromiso estratégico/institucional. Estas actividades coinciden con las establecidas en la planeación institucional.
C11: 2.4. Meta | D11: escriba el numero asignado para la meta a la que corresponde el compromiso en el “Plan Operativo de Acción” (POA).
C12: 2.5. Indicador | D12: Son el mecanismo para valorar el cumplimiento de las metas establecidas y el progreso de los compromisos institucionales. Se recomienda que la definición de los indicadores se realice con el apoyo de la oficina de planeación.
C13: 2.6. Fecha inicio-fin | D13: Se debe establecer el periodo en el que se ejecutará el compromiso institucional.
C14: 2.7 Obervaciones /Gerente Publico
C15: 2.7 Obervaciones /Superior Jerarquio
B16: 3. Evaluacion | C16: 3.1. Resultado
C17: 3.2. Acumulado/ % Avance
C18: 3.3. Resultado peso POA
C19: 3.4. Analisis
C20: 3.5. Evidencias/Descripcion
C21: 3.5. Evidencias/Ubicación
